BEGIN:VCALENDAR
VERSION:2.0
PRODID:-//Tattooed Mom - ECPv5.9.0//NONSGML v1.0//EN
CALSCALE:GREGORIAN
METHOD:PUBLISH
X-WR-CALNAME:Tattooed Mom
X-ORIGINAL-URL:https://www.tattooedmomphilly.com
X-WR-CALDESC:Events for Tattooed Mom
BEGIN:VTIMEZONE
TZID:America/New_York
BEGIN:DAYLIGHT
TZOFFSETFROM:-0500
TZOFFSETTO:-0400
TZNAME:EDT
DTSTART:20260308T070000
END:DAYLIGHT
BEGIN:STANDARD
TZOFFSETFROM:-0400
TZOFFSETTO:-0500
TZNAME:EST
DTSTART:20261101T060000
END:STANDARD
END:VTIMEZONE
BEGIN:VEVENT
DTSTART;TZID=America/New_York:20260519T190000
DTEND;TZID=America/New_York:20260519T203000
DTSTAMP:20260425T152153
CREATED:20260421T172328Z
LAST-MODIFIED:20260421T172328Z
UID:16556-1779217200-1779222600@www.tattooedmomphilly.com
SUMMARY:WAR OF THE WORDS: Dad Joke and Wordplay Quizzo Battle
DESCRIPTION:The wordiest\, nerdiest quizzo event you’ve ever attended comes back to Tattooed Moms! Assemble your squad and strap in for groaners. \nFrom the notorious fellows behind It’s Always Punny in Philadelphia comes another dad joke-based quizzo extravaganza\, this time with a new name. Assemble your squad and prepare for wordplay battle; prepare for groans. Your team will compete in rounds including\, but not limited to: \nComplete the Dad Joke: We give you the first half of the dad joke\, you complete the second \nHeadlines: We give you a wacky new story\, you write the headline \nWhat’s in a Name?: Tell us what an acronym or abbreviation really stands for \nFigures of Speech: Create a new saying and tell us when you use it \nWinners will receive honor\, glory\, and prizes(!). \n\n\n\n  \n\n\nTUESDAY\, MAY 19TH\n7PM\nSUGGESTED DONATION $5\n>> NOTAFLOF <<\nRSVP: EVENTBRITE \n  \n\n\n\nLogistical note: this event has been busy in the past. If having a proper chair is an object\, we suggest you arrive early (though we’ll of course do our best to accommodate). \n\n\n\nFollow It’s Always Punny in Philadelphia on Instagram. \n  \n*** \nWhat’s Up at TMoms: \n• Tuesdays\, 4-10pm | it’s tacos. it’s tecate. it’s tuesdays. what more can we say. $1.50 beef or bean tacos every Taco Tuesday + $3 tecate! \n• Daily Happy Hour | $4 drafts every day from 4-6pm\, everybody cheered! \n• Daily Menu | Tattooed Mom will also be serving tasty eats and ice cold drinks all evening. \n• Upstairs dining\, bar access\, and event entry is 21+ w/ valid ID. \n• Accessibility at TMoms | Due to the construction of our historical building\, Tattooed Mom is only partially accessible. Our event space is on the second floor\, which is only accessible via a flight of stairs (20 steps\, 3 feet wide\, railing on the left side only). For more information\, please visit our Accessibility page.
URL:https://www.tattooedmomphilly.com/event/war-of-the-words-dad-joke-and-wordplay-quizzo-battle-2/
CATEGORIES:Comedy,Live Performance
ATTACH;FMTTYPE=image/png:https://www.tattooedmomphilly.com/wp-content/uploads/2026/04/WOTW-MAY.png
END:VEVENT
END:VCALENDAR