BEGIN:VCALENDAR
VERSION:2.0
PRODID:-//Tattooed Mom - ECPv5.9.0//NONSGML v1.0//EN
CALSCALE:GREGORIAN
METHOD:PUBLISH
X-WR-CALNAME:Tattooed Mom
X-ORIGINAL-URL:https://www.tattooedmomphilly.com
X-WR-CALDESC:Events for Tattooed Mom
BEGIN:VTIMEZONE
TZID:America/New_York
BEGIN:DAYLIGHT
TZOFFSETFROM:-0500
TZOFFSETTO:-0400
TZNAME:EDT
DTSTART:20190310T070000
END:DAYLIGHT
BEGIN:STANDARD
TZOFFSETFROM:-0400
TZOFFSETTO:-0500
TZNAME:EST
DTSTART:20191103T060000
END:STANDARD
END:VTIMEZONE
BEGIN:VEVENT
DTSTART;TZID=America/New_York:20190131T180000
DTEND;TZID=America/New_York:20190131T210000
DTSTAMP:20260424T225047
CREATED:20190110T233937Z
LAST-MODIFIED:20190119T155202Z
UID:4322-1548957600-1548968400@www.tattooedmomphilly.com
SUMMARY:#VEGANFOR Bingo Night with Woodstock Farm Sanctuary!
DESCRIPTION:2019 is officially The Year of the Vegan\, and we are celebrating the whole month of January! \nJoin us & The Woodstock Farm Sanctuary for a V-E-G-A-N bingo fundraiser with some fabulous prizes\, including new merch and a private tour of the Sanctuary! PLUS a portion of all food & drinks sales will support Woodstock Sanctuary’s work to rescue\, educate\, and advocate for farmed animals. \nRemember to bring cash to donate\, support the Woodstock Sanctuary\, and participate in bingo!\n(No one will be turned away for lack of funds) \nCome out & also get your exclusive #VeganFor____ sticker – you can write in the name of your favorite rescued animal\, favorite vegan-friendly restaurant\, or any other reason you’re vegan in the new year! \nNo RSVP required\, but for bar entry must be 21+! \nEnjoy this event with our Pierogi Thursday specials:\n50¢ vegan potato & onion pierogi from noon-10pm\,\nHalf off all drafts 5-7pm and 10-11pm\,\n& our FULL meatless menu! \nJoin the Facebook Event and invite all your veg-loving pals!
URL:https://www.tattooedmomphilly.com/event/veg-bingo-night-woodstock-farm-sanctuary/
CATEGORIES:Community
ATTACH;FMTTYPE=image/jpeg:https://www.tattooedmomphilly.com/wp-content/uploads/2019/01/1-31_VeganBingo2.jpg
END:VEVENT
END:VCALENDAR