BEGIN:VCALENDAR
VERSION:2.0
PRODID:-//Tattooed Mom - ECPv5.9.0//NONSGML v1.0//EN
CALSCALE:GREGORIAN
METHOD:PUBLISH
X-WR-CALNAME:Tattooed Mom
X-ORIGINAL-URL:https://www.tattooedmomphilly.com
X-WR-CALDESC:Events for Tattooed Mom
BEGIN:VTIMEZONE
TZID:America/New_York
BEGIN:DAYLIGHT
TZOFFSETFROM:-0500
TZOFFSETTO:-0400
TZNAME:EDT
DTSTART:20230312T070000
END:DAYLIGHT
BEGIN:STANDARD
TZOFFSETFROM:-0400
TZOFFSETTO:-0500
TZNAME:EST
DTSTART:20231105T060000
END:STANDARD
END:VTIMEZONE
BEGIN:VEVENT
DTSTART;TZID=America/New_York:20230214T160000
DTEND;TZID=America/New_York:20230215T230000
DTSTAMP:20260420T010304
CREATED:20230211T205609Z
LAST-MODIFIED:20230211T210358Z
UID:9410-1676390400-1676502000@www.tattooedmomphilly.com
SUMMARY:Valentine's Double Feature with LoFi Aperitifs • 2/14 & 2/15
DESCRIPTION:DO YOU LOVE TMOMs & LOFI? CIRCLE ONE:\nYES            YES BUT IT’S ITALIC\n  \n❤❤❤ \n  \nThis Valentine’s Day\, LoFi is our aperitif crush! Celebrate the season with us 2/14 & 2/15 with some sultry sips of The Paper Heart\, our specialty VDay cocktail featuring LoFi Amaro! Whether we get our hearts broken or find true love\, it’s no accident that Amaro is regarded for its pain relieving qualities\, anti-toxin abilities\, and even its aphrodisiacal effect! 👀🥰💋 \n  \n8213 Desserts will be downstairs on Tuesday\, 2/14 with tasty boxes of Valentine Sweets for sale! Join us again on Wednesday\, 2/15 for a big serving of self-love with the return of Slutty Poetry Night! 🍰🍒 \n  \nOur love for you may be eternal\, but The Paper Heart is only around for a short time. Don’t let love slip through your fingers! \n  \n \nValentine’s Cocktail Special: The Paper Heart\nLoFi Amaro + tequila + Aperol + lime\n2/14 & 2/15\n  \nValentine’s Snacks: 8213 Desserts\n2/14\n  \nPost-Valentine’s Day Hang: Slutty Poetry Night\n2/15\n  \n❤❤❤ \n  \nWhat’s Up at TMoms: \n• Enjoy our new happy hour! All drafts are just $4 every day from 4-6pm! \n• Tattooed Mom will also be serving tasty eats and ice cold drinks all evening. \n• Upstairs dining\, bar access\, and event entry is 21+ w/ valid ID.
URL:https://www.tattooedmomphilly.com/event/valentines-double-feature-with-lofi-aperitifs-2-14-2-15/
CATEGORIES:Food & Drink
ATTACH;FMTTYPE=image/jpeg:https://www.tattooedmomphilly.com/wp-content/uploads/2023/02/0256_LOFI_23_TMoms_VDay_R1.jpg
END:VEVENT
END:VCALENDAR