BEGIN:VCALENDAR
VERSION:2.0
PRODID:-//Tattooed Mom - ECPv5.9.0//NONSGML v1.0//EN
CALSCALE:GREGORIAN
METHOD:PUBLISH
X-WR-CALNAME:Tattooed Mom
X-ORIGINAL-URL:https://www.tattooedmomphilly.com
X-WR-CALDESC:Events for Tattooed Mom
BEGIN:VTIMEZONE
TZID:America/New_York
BEGIN:DAYLIGHT
TZOFFSETFROM:-0500
TZOFFSETTO:-0400
TZNAME:EDT
DTSTART:20180311T070000
END:DAYLIGHT
BEGIN:STANDARD
TZOFFSETFROM:-0400
TZOFFSETTO:-0500
TZNAME:EST
DTSTART:20181104T060000
END:STANDARD
END:VTIMEZONE
BEGIN:VEVENT
DTSTART;TZID=America/New_York:20180421T130000
DTEND;TZID=America/New_York:20180421T180000
DTSTAMP:20260424T183230
CREATED:20180411T153722Z
LAST-MODIFIED:20180416T035229Z
UID:2816-1524315600-1524333600@www.tattooedmomphilly.com
SUMMARY:A Tribute Art Show In Memory of Justin E. Betts
DESCRIPTION:The final east coast art show in honor of Justin Betts will be held at Tattooed Mom. Come join us one last time to celebrate his art and more importantly\, his life. \nMultiple vendors will be there.\nIn addition there will be raffles. \n20% of all food and drink sales will be donated to the benefit. \n \n \nArtwork from Justin Betts\, showcased at Tattooed Mom in January 2018.
URL:https://www.tattooedmomphilly.com/event/tribute-art-show-memory-justin-e-betts/
CATEGORIES:Art Show,Benefit Party
ATTACH;FMTTYPE=image/jpeg:https://www.tattooedmomphilly.com/wp-content/uploads/2018/04/4-21_JustinBettsFlyer.jpeg
END:VEVENT
END:VCALENDAR