BEGIN:VCALENDAR
VERSION:2.0
PRODID:-//Tattooed Mom - ECPv5.9.0//NONSGML v1.0//EN
CALSCALE:GREGORIAN
METHOD:PUBLISH
X-WR-CALNAME:Tattooed Mom
X-ORIGINAL-URL:https://www.tattooedmomphilly.com
X-WR-CALDESC:Events for Tattooed Mom
BEGIN:VTIMEZONE
TZID:America/New_York
BEGIN:DAYLIGHT
TZOFFSETFROM:-0500
TZOFFSETTO:-0400
TZNAME:EDT
DTSTART:20210314T070000
END:DAYLIGHT
BEGIN:STANDARD
TZOFFSETFROM:-0400
TZOFFSETTO:-0500
TZNAME:EST
DTSTART:20211107T060000
END:STANDARD
END:VTIMEZONE
BEGIN:VEVENT
DTSTART;TZID=America/New_York:20210814T140000
DTEND;TZID=America/New_York:20210814T153000
DTSTAMP:20260419T193018
CREATED:20210707T181435Z
LAST-MODIFIED:20210707T184105Z
UID:7651-1628949600-1628955000@www.tattooedmomphilly.com
SUMMARY:TMoms Cocktail Pop-Up @ National Liberty Museum\, 8/14
DESCRIPTION:Art as a Tool for Social Change: A Workshop with Diana T. Myers\, August 14\, 2021\, 2pm\nRacial inequity\, gender inequality\, social justice: what are they and what do they look like? Explore how art can be a tool for social change in this hands-on\, 90-minute workshop with Graphic Content mixed-media artist Diana T. Myers. [More info via NLM >] \n  \nWHAT: Tmoms Cocktail Pop-Up @ National Liberty Museum Workshop\nWHEN: Saturday\, August 18th\, 2pm\nWHERE: National Liberty Museum\, 321 Chestnut Street \n  \nTickets are $20; $10 for Members. Please register here.\nSpace is limited\, so be sure to book today!\nAnd don’t forget to pre-order a Mom’s Mule cocktail with your purchase! 🙂 \n  \n \n  \nRSVP & invite all you pals on Facebook. \nFollow Tattooed Mom on Instagram\, Twitter\, and Facebook for more slammin’ food specials\, creative cocktails\, vegan treats\, pop-up events\, and more!
URL:https://www.tattooedmomphilly.com/event/tmoms-cocktail-pop-national-liberty-museum-814/
LOCATION:National Liberty Museum\, 321 Chestnut Street\, Philadelphia\, PA\, 19106\, United States
CATEGORIES:Food & Drink,Off-Site
ATTACH;FMTTYPE=image/jpeg:https://www.tattooedmomphilly.com/wp-content/uploads/2021/07/Moms-Mule_To-Go_Header04.jpg
END:VEVENT
END:VCALENDAR