BEGIN:VCALENDAR
VERSION:2.0
PRODID:-//Tattooed Mom - ECPv5.9.0//NONSGML v1.0//EN
CALSCALE:GREGORIAN
METHOD:PUBLISH
X-WR-CALNAME:Tattooed Mom
X-ORIGINAL-URL:https://www.tattooedmomphilly.com
X-WR-CALDESC:Events for Tattooed Mom
BEGIN:VTIMEZONE
TZID:America/New_York
BEGIN:DAYLIGHT
TZOFFSETFROM:-0500
TZOFFSETTO:-0400
TZNAME:EDT
DTSTART:20240310T070000
END:DAYLIGHT
BEGIN:STANDARD
TZOFFSETFROM:-0400
TZOFFSETTO:-0500
TZNAME:EST
DTSTART:20241103T060000
END:STANDARD
END:VTIMEZONE
BEGIN:VEVENT
DTSTART;TZID=America/New_York:20241023T190000
DTEND;TZID=America/New_York:20241023T210000
DTSTAMP:20260425T071442
CREATED:20240913T022050Z
LAST-MODIFIED:20240913T022050Z
UID:12911-1729710000-1729717200@www.tattooedmomphilly.com
SUMMARY:Three Cheers For Sweet Drag
DESCRIPTION:The MCR drag show is back and better than ever; this time performing their album Three Cheers for Sweet Revenge in entirety only at Tattooed Mom! If you missed the first MCR drag show\, now’s your chance to catch the action in all of its glory with a stellar cast! \nIn spirit of Halloween\, come in your best costume for a chance to win a gift courtesy of Tattooed Mom! \n  \nWEDNESDAY\, OCTOBER 23RD\nDOORS @ 6PM + SHOW @ 7PM\nSUGGESTED DONATION $15 | VIP SEATING $20\n>> NOTAFLOF <<\nRSVP: EVENTBRITE \n  \nHosted by Angel Baphomét \nPerformances by: \nCaresse Deville\nAndy Social\nDeej Nutz\nSuli Skekli\nMister Right\nMs.Terr \nTom Foolery\nVanity Killz\nVudu Thee Dahl\nXtrella \nStage kitten: Mew Ikki\nSounds provided by Outergrace \n  \n*** \nWhat’s Up at TMoms: \n• Wednesday\, 4-10pm | Burger Wednesday is BACK y’all! Come slam some Smash Burgers (classic or vegan) every Wednesday for just $6!! Plus $3 PBR! Recently named one of the top burgers in the city by The Philadelphia Inquirer! \n• Daily Happy Hour | All drafts are just $4 every day from 4-6pm! \n• Daily Menu | Tattooed Mom will also be serving tasty eats and ice cold drinks all evening. \n• Upstairs dining\, bar access\, and event entry is 21+ w/ valid ID. \n• Accessibility at TMoms | Due to the construction of our historical building\, Tattooed Mom is only partially accessible. Our event space is on the second floor\, which is only accessible via a flight of stairs (20 steps\, 3 feet wide\, railing on the left side only). For more information\, please visit our Accessibility page.
URL:https://www.tattooedmomphilly.com/event/three-cheers-for-sweet-drag/
CATEGORIES:Drag,Live Performance
ATTACH;FMTTYPE=image/jpeg:https://www.tattooedmomphilly.com/wp-content/uploads/2024/09/3cheersdragtributeinstagramsquare3.jpg
END:VEVENT
END:VCALENDAR