BEGIN:VCALENDAR
VERSION:2.0
PRODID:-//Tattooed Mom - ECPv5.9.0//NONSGML v1.0//EN
CALSCALE:GREGORIAN
METHOD:PUBLISH
X-WR-CALNAME:Tattooed Mom
X-ORIGINAL-URL:https://www.tattooedmomphilly.com
X-WR-CALDESC:Events for Tattooed Mom
BEGIN:VTIMEZONE
TZID:America/New_York
BEGIN:DAYLIGHT
TZOFFSETFROM:-0500
TZOFFSETTO:-0400
TZNAME:EDT
DTSTART:20240310T070000
END:DAYLIGHT
BEGIN:STANDARD
TZOFFSETFROM:-0400
TZOFFSETTO:-0500
TZNAME:EST
DTSTART:20241103T060000
END:STANDARD
END:VTIMEZONE
BEGIN:VEVENT
DTSTART;TZID=America/New_York:20240422T190000
DTEND;TZID=America/New_York:20240422T210000
DTSTAMP:20260425T152547
CREATED:20240316T024721Z
LAST-MODIFIED:20240409T234551Z
UID:11991-1713812400-1713819600@www.tattooedmomphilly.com
SUMMARY:The Happening: A Live Reading
DESCRIPTION:There appears to be an event occuring. \nJoin Theatre Contra\, just in time for Earth Day\, as we perform what is arguably the most logical movie to ever exist: M. Night Shymalan’s The Happening! We’re back at Tattooed Mom\, so grab a drink\, hop in a bumper car and get ready to yell at some plastic plants. \n  \nMONDAY\, APRIL 22ND\n7-9PM\nSUGGESTED DONATION $10 | VIP SEATING $15 | NOTAFLOF\nRSVP: FB EVENT | VIP TICKETS: TICKETLEAP \n  \nDirected by Adam Howard \nAll VIP tickets come with 4 complimentary raffle tickets and a guaranteed optimal view seat. \nFeaturing:\nAdam Howard\nKatie Frazer\nJenna Kuerzi\nJohn Patouhas\nNatajia Sconiers \nVIP Tickets available in advance. General Admission (PWYC) available at the door. \n  \n*** \nWhat’s Up at TMoms: \n• Mondays\, 4-11pm | Prepare yourselves—Meatless Monday is back at Tattooed Mom (with a twist)!!!!!!!!! Every two months we’ll be highlighting a different vegan menu item every Monday. See what’s on special this month! \n• Mondays\, Upstairs 6-11pm | We see free 🎱 in your future! Introducing Free Pool Mondays upstairs at TMoms! \n• Daily Happy Hour | All drafts are just $4 every day from 4-6pm! \n• Daily Menu | Tattooed Mom will also be serving tasty eats and ice cold drinks all evening. \n• Upstairs dining\, bar access\, and event entry is 21+ w/ valid ID. \n• Accessibility at TMoms | Due to the construction of our historical building\, Tattooed Mom is only partially accessible. Our event space is on the second floor\, which is only accessible via a flight of stairs (20 steps\, 3 feet wide\, railing on the left side only). For more information\, please visit our Accessibility page.
URL:https://www.tattooedmomphilly.com/event/the-happening-a-live-reading/
CATEGORIES:Literary Event
ATTACH;FMTTYPE=image/png:https://www.tattooedmomphilly.com/wp-content/uploads/2024/03/The-Happening-2.png
END:VEVENT
END:VCALENDAR