BEGIN:VCALENDAR
VERSION:2.0
PRODID:-//Tattooed Mom - ECPv5.9.0//NONSGML v1.0//EN
CALSCALE:GREGORIAN
METHOD:PUBLISH
X-WR-CALNAME:Tattooed Mom
X-ORIGINAL-URL:https://www.tattooedmomphilly.com
X-WR-CALDESC:Events for Tattooed Mom
BEGIN:VTIMEZONE
TZID:America/New_York
BEGIN:DAYLIGHT
TZOFFSETFROM:-0500
TZOFFSETTO:-0400
TZNAME:EDT
DTSTART:20200308T070000
END:DAYLIGHT
BEGIN:STANDARD
TZOFFSETFROM:-0400
TZOFFSETTO:-0500
TZNAME:EST
DTSTART:20201101T060000
END:STANDARD
END:VTIMEZONE
BEGIN:VEVENT
DTSTART;TZID=America/New_York:20200225T200000
DTEND;TZID=America/New_York:20200225T220000
DTSTAMP:20260421T171644
CREATED:20200216T212035Z
LAST-MODIFIED:20200216T212035Z
UID:6195-1582660800-1582668000@www.tattooedmomphilly.com
SUMMARY:Tattooed Momedy: February 2020!
DESCRIPTION:This is THE month to finally fall in love. For it is Valentimes of course! The time for Valens. \nYou are guaranteed to get kissed\, fall in love\, and date a hottie the minute you throw back your head in laughter\, chug a Tecate\, and demolish a plate of tacos… at Tattooed Mom with Tattooed Momedy! \nTattooed Momedy is a free monthly comedy showcase featuring hilarious comedy performers of all types and genres from Philadelphia and across the U.S! \nOpey Olagbaju (Comedy Central)\nMichael S. Watkins (Hard Times)\nAlyssa Al-Dookhi\nCaitlin Feeney\nGabrielle Landrum\nAND MORE! \nHosted by Molly Hanulec! \nNO COVER! 21+!\nDoors at 8pm. Be sure to get here early to snag that comfy armchair or bumper car…this event fills up QUICKLY! \nEnjoy this event with our Taco Tuesday specials:\n$1 Tacos\n$2.50 Tecate\n& half off all drafts 5-7 & 10-11pm \nJoin the Facebook Event and invite all your pals!
URL:https://www.tattooedmomphilly.com/event/tattooed-momedy-february-2020/
CATEGORIES:Comedy,Live Performance
ATTACH;FMTTYPE=image/jpeg:https://www.tattooedmomphilly.com/wp-content/uploads/2019/12/02-2020_Momedy.jpg
END:VEVENT
END:VCALENDAR