BEGIN:VCALENDAR
VERSION:2.0
PRODID:-//Tattooed Mom - ECPv5.9.0//NONSGML v1.0//EN
CALSCALE:GREGORIAN
METHOD:PUBLISH
X-WR-CALNAME:Tattooed Mom
X-ORIGINAL-URL:https://www.tattooedmomphilly.com
X-WR-CALDESC:Events for Tattooed Mom
BEGIN:VTIMEZONE
TZID:America/New_York
BEGIN:DAYLIGHT
TZOFFSETFROM:-0500
TZOFFSETTO:-0400
TZNAME:EDT
DTSTART:20180311T070000
END:DAYLIGHT
BEGIN:STANDARD
TZOFFSETFROM:-0400
TZOFFSETTO:-0500
TZNAME:EST
DTSTART:20181104T060000
END:STANDARD
END:VTIMEZONE
BEGIN:VEVENT
DTSTART;TZID=America/New_York:20181218T200000
DTEND;TZID=America/New_York:20181218T220000
DTSTAMP:20260421T190421
CREATED:20181204T232832Z
LAST-MODIFIED:20181204T232832Z
UID:4048-1545163200-1545170400@www.tattooedmomphilly.com
SUMMARY:Tattooed Momedy: December 2018
DESCRIPTION:Tattooed Momedy is a free monthly comedy showcase featuring hilarious comedy performers of all types and genres from Philadelphia and across the U.S! \nThis month’s headliner: Alex Grubard\nSpecial feature: Chris Wood\nStarring:\nErin Dohony\nKyle Harris\nLiz P Curtis \nHosted by Michael Kelly & Molly Hanulec!\nArt by Hades Reed! \nNO COVER! 21+!\nDoors at 8pm. Be sure to get here early to snag that comfy armchair or bumper car…this event fills up QUICKLY! \nEnjoy this event with our Taco Tuesday specials:\n$1 Tacos\n$2.50 Tecate\n& half off all drafts 5-7 & 10-11pm \nJoin the Facebook Event and invite all your pals!
URL:https://www.tattooedmomphilly.com/event/tattooed-momedy-december-2018/
CATEGORIES:Comedy,Live Performance
ATTACH;FMTTYPE=image/jpeg:https://www.tattooedmomphilly.com/wp-content/uploads/2018/12/12-18_TattooedMomedy.jpeg
END:VEVENT
END:VCALENDAR