BEGIN:VCALENDAR
VERSION:2.0
PRODID:-//Tattooed Mom - ECPv5.9.0//NONSGML v1.0//EN
CALSCALE:GREGORIAN
METHOD:PUBLISH
X-WR-CALNAME:Tattooed Mom
X-ORIGINAL-URL:https://www.tattooedmomphilly.com
X-WR-CALDESC:Events for Tattooed Mom
BEGIN:VTIMEZONE
TZID:America/New_York
BEGIN:DAYLIGHT
TZOFFSETFROM:-0500
TZOFFSETTO:-0400
TZNAME:EDT
DTSTART:20190310T070000
END:DAYLIGHT
BEGIN:STANDARD
TZOFFSETFROM:-0400
TZOFFSETTO:-0500
TZNAME:EST
DTSTART:20191103T060000
END:STANDARD
END:VTIMEZONE
BEGIN:VEVENT
DTSTART;TZID=America/New_York:20190827T200000
DTEND;TZID=America/New_York:20190827T220000
DTSTAMP:20260421T200146
CREATED:20190813T155205Z
LAST-MODIFIED:20190813T155205Z
UID:4069-1566936000-1566943200@www.tattooedmomphilly.com
SUMMARY:Tattooed Momedy: August 2019
DESCRIPTION:It’s the final Tattooed Momedy of summer\, but things are just beginning to heat up! Don’t miss out on Philadelphia Magazine‘s 2019 pick for Best of Philly’s “Cheap Laughs\,” featuring hilarious comedy performers of all types and genres from Philadelphia and across the U.S! \nThis month’s headliner: Conner McNutt\nFeaturing: Megan Chialastri\nStarring:\nDaniel Ostrov\nKarina Reyes\nRoss Weisman\nAlex Yang \nSpecial guest appearance by the one and only BEV (Drew Bev Gaver) \nHosted by Michael Kelly and Molly Hanulec! \nNO COVER! 21+!\nDoors at 8pm. Be sure to get here early to snag that comfy armchair or bumper car…this event fills up QUICKLY! \nEnjoy this event with our Taco Tuesday specials:\n$1 Tacos\n$2.50 Tecate\n& half off all drafts 5-7 & 10-11pm \nJoin the Facebook Event and invite all your pals!
URL:https://www.tattooedmomphilly.com/event/tattooed-momedy-august-2019/
CATEGORIES:Comedy,Live Performance
ATTACH;FMTTYPE=image/png:https://www.tattooedmomphilly.com/wp-content/uploads/2019/08/8-27_TattooedMomedy.png
END:VEVENT
END:VCALENDAR