BEGIN:VCALENDAR
VERSION:2.0
PRODID:-//Tattooed Mom - ECPv5.9.0//NONSGML v1.0//EN
CALSCALE:GREGORIAN
METHOD:PUBLISH
X-WR-CALNAME:Tattooed Mom
X-ORIGINAL-URL:https://www.tattooedmomphilly.com
X-WR-CALDESC:Events for Tattooed Mom
BEGIN:VTIMEZONE
TZID:America/New_York
BEGIN:DAYLIGHT
TZOFFSETFROM:-0500
TZOFFSETTO:-0400
TZNAME:EDT
DTSTART:20180311T070000
END:DAYLIGHT
BEGIN:STANDARD
TZOFFSETFROM:-0400
TZOFFSETTO:-0500
TZNAME:EST
DTSTART:20181104T060000
END:STANDARD
END:VTIMEZONE
BEGIN:VEVENT
DTSTART;TZID=America/New_York:20180130T200000
DTEND;TZID=America/New_York:20180130T223000
DTSTAMP:20260422T110820
CREATED:20180109T184455Z
LAST-MODIFIED:20180109T184507Z
UID:2424-1517342400-1517351400@www.tattooedmomphilly.com
SUMMARY:Tattooed Momedy: January
DESCRIPTION:Tattooed Momedy is a free monthly comedy showcase featuring hilarious comedy performers from all over the effing place. \nJanuary’s headliner:\nBen Wasserman \nFeaturing:\nMiguel Dalmau\nKattoo King\nBenny Feldman\nJoe Murdock\nHannah Trav \nHosted By: Michael Kelly & Molly Hanulec \nNO COVER!\n$1 Tacos!\n$2.50 Tecates!
URL:https://www.tattooedmomphilly.com/event/tattooed-comedy-january/
CATEGORIES:Comedy
ATTACH;FMTTYPE=image/jpeg:https://www.tattooedmomphilly.com/wp-content/uploads/2018/01/Momedy.jpg
END:VEVENT
END:VCALENDAR