BEGIN:VCALENDAR
VERSION:2.0
PRODID:-//Tattooed Mom - ECPv5.9.0//NONSGML v1.0//EN
CALSCALE:GREGORIAN
METHOD:PUBLISH
X-WR-CALNAME:Tattooed Mom
X-ORIGINAL-URL:https://www.tattooedmomphilly.com
X-WR-CALDESC:Events for Tattooed Mom
BEGIN:VTIMEZONE
TZID:America/New_York
BEGIN:DAYLIGHT
TZOFFSETFROM:-0500
TZOFFSETTO:-0400
TZNAME:EDT
DTSTART:20170312T070000
END:DAYLIGHT
BEGIN:STANDARD
TZOFFSETFROM:-0400
TZOFFSETTO:-0500
TZNAME:EST
DTSTART:20171105T060000
END:STANDARD
END:VTIMEZONE
BEGIN:VEVENT
DTSTART;TZID=America/New_York:20170430T120000
DTEND;TZID=America/New_York:20170430T233000
DTSTAMP:20260424T084347
CREATED:20170424T060026Z
LAST-MODIFIED:20170416T053505Z
UID:1046-1493553600-1493595000@www.tattooedmomphilly.com
SUMMARY:Sunday Arts & Crafts: Rubber Duckies
DESCRIPTION:April welcomes spring and the migratory return of rubber duckies to Tattooed Mom. \nCelebrate our bird friends by customizing a rubber ducky with all the feathers\, pom poms\, googly eyes\, sequins\, and beautiful bling you can get your hands on! Try our tasty brunch menu or enjoy half priced drafts from 5-7 & 10-11pm & half priced tots & $2 Pabst Blue Ribbon after 7pm. \nFREE arts & crafts FUN for all\, rubber ducky style.
URL:https://www.tattooedmomphilly.com/event/sunday-arts-crafts-rubber-duckies-3/
CATEGORIES:Arts & Crafts
ATTACH;FMTTYPE=image/jpeg:https://www.tattooedmomphilly.com/wp-content/uploads/2016/12/CRAFT-April-rubber-ducky.jpg
END:VEVENT
END:VCALENDAR