BEGIN:VCALENDAR
VERSION:2.0
PRODID:-//Tattooed Mom - ECPv5.9.0//NONSGML v1.0//EN
CALSCALE:GREGORIAN
METHOD:PUBLISH
X-WR-CALNAME:Tattooed Mom
X-ORIGINAL-URL:https://www.tattooedmomphilly.com
X-WR-CALDESC:Events for Tattooed Mom
BEGIN:VTIMEZONE
TZID:America/New_York
BEGIN:DAYLIGHT
TZOFFSETFROM:-0500
TZOFFSETTO:-0400
TZNAME:EDT
DTSTART:20190310T070000
END:DAYLIGHT
BEGIN:STANDARD
TZOFFSETFROM:-0400
TZOFFSETTO:-0500
TZNAME:EST
DTSTART:20191103T060000
END:STANDARD
END:VTIMEZONE
BEGIN:VEVENT
DTSTART;TZID=America/New_York:20190925T183000
DTEND;TZID=America/New_York:20190925T203000
DTSTAMP:20260421T184714
CREATED:20190830T202016Z
LAST-MODIFIED:20190830T202445Z
UID:5649-1569436200-1569443400@www.tattooedmomphilly.com
SUMMARY:Spit Spreads Death: A Mütter Museum Pop-Up!
DESCRIPTION:What happens when disease strikes a city of two million people\, sickening half a million and killing more than 12\,000 in just six weeks and 20\,000 in six months? During the fall of 1918\, in the last months of World War I\, Philadelphia hosted the largest parade in its history. Within days\, influenza casualties overwhelmed hospitals. \nJoin us on Wednesday\, September 25th for an infectious lecture\, influenza exhibition\, and Mütter Museum Pop-Up at Tattooed Mom!\nFREE // 21+ // UPSTAIRS \nRobert D. Hicks\, Director of the Mütter Museum\, will lead a talk about the disaster that claimed more than 16\,000 lives in six months\, as well as an exhibition of relevant artifacts from the museum collection\, both of which highlight the museum’s most ambitious exhibition\, Spit Spreads Death: the 1918-19 Influenza Pandemic in Philadelphia. \nJoin us for a brew\, burger specials\, and a bit of local dark history—PLUS the chance to win tickets to the museum! \nExclusive talk begins at 6:30PM.\nCan’t make it? Don’t miss out on the exhibit\, and make sure to catch the museum’s interactive commemorative parade with Blast Theory UK on September 28th! \n***\nUPCOMING SPIT SPREADS DEATH EVENTS\nSEPTEMBER 7\, 2019: Health Fair at Mifflin Square Park\nSEPTEMBER 27\, 2019: Spit Spreads Death Parade Workshop with Spiral Q\nSEPTEMBER 28\, 2019: Interactive artists Blast Theory and the Mütter Museum bring a parade of light and sound to the streets of Philadelphia to commemorate this devastating event\, remember those who died\, and honor those who keep us safe today. Sign up to join the parade!\nOCTOBER 17\, 2019: Spit Spreads Death opens to the public\nOCTOBER 17\, 2019: Fellows and Members Spit Spreads Death Opening Night\n*** \nEnjoy this event with our Burger Wednesday specials:\n$4 Mom’s Beef Burgers & Mom’s Vegan Burgers\n$2 Narragansett Lager Tall Boys\na special Burger of the Month\n& half price drafts 5-7pm and 10-11pm \nJoin the Facebook Event and invite all your pals!
URL:https://www.tattooedmomphilly.com/event/spit-spreads-death-mutter-museum-pop/
CATEGORIES:Community,Live Performance
ATTACH;FMTTYPE=image/jpeg:https://www.tattooedmomphilly.com/wp-content/uploads/2019/08/9-25_SpitSpreadsDeath.jpg
END:VEVENT
END:VCALENDAR