BEGIN:VCALENDAR
VERSION:2.0
PRODID:-//Tattooed Mom - ECPv5.9.0//NONSGML v1.0//EN
CALSCALE:GREGORIAN
METHOD:PUBLISH
X-WR-CALNAME:Tattooed Mom
X-ORIGINAL-URL:https://www.tattooedmomphilly.com
X-WR-CALDESC:Events for Tattooed Mom
BEGIN:VTIMEZONE
TZID:America/New_York
BEGIN:DAYLIGHT
TZOFFSETFROM:-0500
TZOFFSETTO:-0400
TZNAME:EDT
DTSTART:20230312T070000
END:DAYLIGHT
BEGIN:STANDARD
TZOFFSETFROM:-0400
TZOFFSETTO:-0500
TZNAME:EST
DTSTART:20231105T060000
END:STANDARD
END:VTIMEZONE
BEGIN:VEVENT
DTSTART;TZID=America/New_York:20230525T190000
DTEND;TZID=America/New_York:20230525T220000
DTSTAMP:20260422T080028
CREATED:20230516T153940Z
LAST-MODIFIED:20230516T153940Z
UID:9890-1685041200-1685052000@www.tattooedmomphilly.com
SUMMARY:Sip City Mixer: Gender Variance Pop-Up Party // May 2023
DESCRIPTION:A special edition Sip City Mixer centering and celebrating our Trans\, Non-Binary\, and Gender Non-Conforming community members! This pop up will be hosted BY and FOR the trans/nb/gnc community. Invited guests or partners also welcome. Please respect this special safe space. \nA note from Sip City Mixer: We strongly prefer guests be fully vaxxed/boosted. If you are not\, please wear a mask to protect others. Sit this one out if you’re feeling unwell. \n  \nTHURSDAY\, MAY 25TH\n7-10PM\nNO COVER // FREE FUN\nEXTENDED HAPPY HOUR 4-10PM // ALL DRAFTS $4\nRSVP: FB EVENT (COMING SOON) \n  \n*** \nWhat’s Up at TMoms: \n• All hail Pierogi Thursday! Munch and crunch on 75¢ pierogi (vegan\, obvi) plus $3 cans of Tecate every Thursday!! And don’t forget ur toppings… Thursdays\, 4-11pm. \n• Tattooed Mom will also be serving tasty eats and ice cold drinks all evening. \n• Upstairs dining\, bar access\, and event entry is 21+ w/ valid ID.
URL:https://www.tattooedmomphilly.com/event/sip-city-mixer-gender-variance-pop-up-party-may-2023/
CATEGORIES:Community,Happy Hour,LGBTQ+ Event
ATTACH;FMTTYPE=image/png:https://www.tattooedmomphilly.com/wp-content/uploads/2023/05/30093C70-4916-4CD7-8A9E-61945290DCC3.png
END:VEVENT
END:VCALENDAR