BEGIN:VCALENDAR
VERSION:2.0
PRODID:-//Tattooed Mom - ECPv5.9.0//NONSGML v1.0//EN
CALSCALE:GREGORIAN
METHOD:PUBLISH
X-WR-CALNAME:Tattooed Mom
X-ORIGINAL-URL:https://www.tattooedmomphilly.com
X-WR-CALDESC:Events for Tattooed Mom
BEGIN:VTIMEZONE
TZID:America/New_York
BEGIN:DAYLIGHT
TZOFFSETFROM:-0500
TZOFFSETTO:-0400
TZNAME:EDT
DTSTART:20240310T070000
END:DAYLIGHT
BEGIN:STANDARD
TZOFFSETFROM:-0400
TZOFFSETTO:-0500
TZNAME:EST
DTSTART:20241103T060000
END:STANDARD
END:VTIMEZONE
BEGIN:VEVENT
DTSTART;TZID=America/New_York:20240331T180000
DTEND;TZID=America/New_York:20240331T210000
DTSTAMP:20260425T152919
CREATED:20240306T015559Z
LAST-MODIFIED:20240306T015559Z
UID:11882-1711908000-1711918800@www.tattooedmomphilly.com
SUMMARY:Scribes On South // March 2024
DESCRIPTION:SCRIBES ON SOUTH is a poetry reading and open mic. The reading begins with a 20-minute featured reader and then moves through the open mic list for the rest of the night. Open mic readers have 5 minutes. There will be a space for poets to sell books. \nSCRIBES ON SOUTH seeks to create community through poetry. Show out\, share\, and meet some new friends by sharing your work! \n\n\nThis reading’s featured readers are Brian Graves and Eden Vernier. \nRead poems. Kick ass. \n  \n\nSUNDAY\, MARCH 31ST\n6-9PM\nNO COVER // FREE FUN \n  \nProne to writing since childhood\, it wasn’t until adulthood that poetry surprisingly became Brian’s medium of choice. Their work focuses on the romances of life\, the weight of relationships\, endlessly unraveling gender\, and living in a body\, often expressing these themes through symbols of nature. Brian continuously seeks vulnerability and comfort in their work and hopes that other queer and trans people of color can find that same safety in the writing. \n \n  \nEden Vernier is. What else is there to say? Her interests include primal rage and the end of all things. Burn it down\, baby! Eden Vernier is. \n  \nFollow @scribesonsouth on Instagram. \n  \n*** \nWhat’s Up at TMoms: \n• Sundays\, All Day Long | Craft Sundays at TMoms? BACK. Googly eyes? BACK. Coloring pages? BACK? Your creative spirit? BACK. Come thru every Sunday for FREE arts & crafts upstairs and downstairs at Tattooed Mom! \n• Daily Happy Hour | All drafts are just $4 every day from 4-6pm! \n• Daily Menu | Tattooed Mom will also be serving tasty eats and ice cold drinks all evening. \n• Upstairs dining\, bar access\, and event entry is 21+ w/ valid ID. \n• Accessibility at TMoms | Due to the construction of our historical building\, Tattooed Mom is only partially accessible. Our event space is on the second floor\, which is only accessible via a flight of stairs (20 steps\, 3 feet wide\, railing on the left side only). For more information\, please visit our Accessibility page.
URL:https://www.tattooedmomphilly.com/event/scribes-on-south-march-2024/
CATEGORIES:Literary Event
ATTACH;FMTTYPE=image/png:https://www.tattooedmomphilly.com/wp-content/uploads/2024/03/Brian-1.png
END:VEVENT
END:VCALENDAR