BEGIN:VCALENDAR
VERSION:2.0
PRODID:-//Tattooed Mom - ECPv5.9.0//NONSGML v1.0//EN
CALSCALE:GREGORIAN
METHOD:PUBLISH
X-WR-CALNAME:Tattooed Mom
X-ORIGINAL-URL:https://www.tattooedmomphilly.com
X-WR-CALDESC:Events for Tattooed Mom
BEGIN:VTIMEZONE
TZID:America/New_York
BEGIN:DAYLIGHT
TZOFFSETFROM:-0500
TZOFFSETTO:-0400
TZNAME:EDT
DTSTART:20240310T070000
END:DAYLIGHT
BEGIN:STANDARD
TZOFFSETFROM:-0400
TZOFFSETTO:-0500
TZNAME:EST
DTSTART:20241103T060000
END:STANDARD
END:VTIMEZONE
BEGIN:VEVENT
DTSTART;TZID=America/New_York:20240714T180000
DTEND;TZID=America/New_York:20240714T210000
DTSTAMP:20260419T125206
CREATED:20240620T020926Z
LAST-MODIFIED:20240620T021106Z
UID:12455-1720980000-1720990800@www.tattooedmomphilly.com
SUMMARY:Scribes Gala
DESCRIPTION:SCRIBES GALA IS COMING TO @tmoms ONE NIGHT ONLY. THIS NON BINARY PEOPLE’S DAY WE WILL DRESS OUR MOST EXTRA. OUR POEMS WILL BE BOMBASTIC & OUR EXPRESSION WILL BE FREE. DRESS CODE WILL BE ANNOUNCED SEPARATELY. \n  \nSUNDAY\, JULY 14TH\n7-9PM\nNO COVER // FREE FUN \n  \nTHE SCRIBES GALA FEATURES: \n-ALL OF U DRESSING EXTRA\n-FOUR FEATURED READERS (ANNOUNCING TOMORROW)\n-AN OPEN MIC FOR POETS\n-LOCAL PRESSES TABLING\n-A LONGER EVENT THAN THE USUAL SCRIBES \nSTANDARD SCRIBES GROUNDRULES APPLY \n  \nPARKER SERA is a queer\, midwestern actor\, poet\, theatre maker\, multidisciplinary artist\, and horse girl. Her poems have appeared in bedfellows magazine\, knack magazine\, the rising phoenix review\, and various other corners of the Internet. She’s also been featured on wxpn radio with Kelly Writer’s House\, and at readings in various corners of Philadelphia. More at parkersera.com. \nBARB GONZALEZ (they/he) is a philadelphia based poet just here to prove that there is something charming\, or maybe a lesson to be learned in the mundane. as a haunter of dreams\, naturally they write about nightmares and woes of their own. barb is published in garland\, out by fifth wheel press and in the process of writing and printing a chapbook in their bedroom\, just because they can. \nROBYN HAGER grew up in Morris County\, New Jersey before moving to the Hudson Valley in 2017. She pursued her passion for creative writing and the arts at SUNY New Paltz and graduated with her MA in Creative Writing in May 2022. Her first poetry collection\, “Sewage Flowers”\, was published in the summer of 2019\, and her work has also been published in the 2020 and 2021 editions of The Stonesthrow Review\, the 2022 edition of The Shawangunk Review\, Lightwood Press\, Graphic Violence and others. \nLINDSAY HARGRAVE is a poet\, editor at Graphic Violence\, and a copywriter for Temple University. Proceeds from their debut chapbook ROT (2022) benefit PCRF. The follow-up\, Computer Baby\, is available now from Bottlecap Press. \n  \n*** \nWhat’s Up at TMoms: \n• Sundays\, All Day Long | Craft Sundays at TMoms? BACK. Googly eyes? BACK. Coloring pages? BACK? Your creative spirit? BACK. Come thru every Sunday for FREE arts & crafts upstairs and downstairs at Tattooed Mom! \n• Daily Happy Hour | All drafts are just $4 every day from 4-6pm! \n• Daily Menu | Tattooed Mom will also be serving tasty eats and ice cold drinks all evening. \n• Upstairs dining\, bar access\, and event entry is 21+ w/ valid ID. \n• Accessibility at TMoms | Due to the construction of our historical building\, Tattooed Mom is only partially accessible. Our event space is on the second floor\, which is only accessible via a flight of stairs (20 steps\, 3 feet wide\, railing on the left side only). For more information\, please visit our Accessibility page.
URL:https://www.tattooedmomphilly.com/event/scribes-gala/
CATEGORIES:Literary Event
ATTACH;FMTTYPE=image/png:https://www.tattooedmomphilly.com/wp-content/uploads/2024/06/GALA-GENERAL.png
END:VEVENT
END:VCALENDAR