BEGIN:VCALENDAR
VERSION:2.0
PRODID:-//Tattooed Mom - ECPv5.9.0//NONSGML v1.0//EN
CALSCALE:GREGORIAN
METHOD:PUBLISH
X-WR-CALNAME:Tattooed Mom
X-ORIGINAL-URL:https://www.tattooedmomphilly.com
X-WR-CALDESC:Events for Tattooed Mom
BEGIN:VTIMEZONE
TZID:America/New_York
BEGIN:DAYLIGHT
TZOFFSETFROM:-0500
TZOFFSETTO:-0400
TZNAME:EDT
DTSTART:20230312T070000
END:DAYLIGHT
BEGIN:STANDARD
TZOFFSETFROM:-0400
TZOFFSETTO:-0500
TZNAME:EST
DTSTART:20231105T060000
END:STANDARD
END:VTIMEZONE
BEGIN:VEVENT
DTSTART;TZID=America/New_York:20231025T190000
DTEND;TZID=America/New_York:20231025T210000
DTSTAMP:20260425T134640
CREATED:20231013T150158Z
LAST-MODIFIED:20231013T150924Z
UID:10813-1698260400-1698267600@www.tattooedmomphilly.com
SUMMARY:Scream // A Live Reading
DESCRIPTION:What’s your favorite scary movie?\nOr…scary live reading? Theatre Contra celebrates spooky season by bringing to life one of the greatest meta horror films to grace our screens: SCREAM! Will Drew Barrymore scream? What about Neve Campbell? Rose McGowan or Matthew Lillard?? We bet they’ll all scream at least once. The only way to find out is to join us on October 25th at Tattooed Mom! \nDirected by Natajia Sconiers \n  \nWEDNESDAY\, OCTOBER 25TH\n7-9PM\nSUGGESTED DONATION $10 | NOTAFLOF\nRSVP: FB EVENT | TICKETLEAP \n  \nFeaturing:\nBrennen Malone\nBryant Edwards\nJo Vito Ramirez\nJohn Patouhas\nLeslie Miller\nRachel O’Hanlon Rodriguez\nSarah Heddins \n*** \nWhat’s Up at TMoms: \n• Wednesday\, 4-11pm | Burger Wednesday is BACK y’all! Come slam some Smash Burgers (classic or vegan) every Wednesday for just $6!! Plus $3 PBR! Recently named one of the top burgers in the city by The Philadelphia Inquirer! \n• Daily Happy Hour | All drafts are just $4 every day from 4-6pm! \n• Daily Menu | Tattooed Mom will also be serving tasty eats and ice cold drinks all evening. \n• Upstairs dining\, bar access\, and event entry is 21+ w/ valid ID.
URL:https://www.tattooedmomphilly.com/event/scream-a-live-reading/
CATEGORIES:Literary Event
ATTACH;FMTTYPE=image/png:https://www.tattooedmomphilly.com/wp-content/uploads/2023/10/Scream-Imagery-2.png
END:VEVENT
END:VCALENDAR