BEGIN:VCALENDAR
VERSION:2.0
PRODID:-//Tattooed Mom - ECPv5.9.0//NONSGML v1.0//EN
CALSCALE:GREGORIAN
METHOD:PUBLISH
X-WR-CALNAME:Tattooed Mom
X-ORIGINAL-URL:https://www.tattooedmomphilly.com
X-WR-CALDESC:Events for Tattooed Mom
BEGIN:VTIMEZONE
TZID:America/New_York
BEGIN:DAYLIGHT
TZOFFSETFROM:-0500
TZOFFSETTO:-0400
TZNAME:EDT
DTSTART:20230312T070000
END:DAYLIGHT
BEGIN:STANDARD
TZOFFSETFROM:-0400
TZOFFSETTO:-0500
TZNAME:EST
DTSTART:20231105T060000
END:STANDARD
END:VTIMEZONE
BEGIN:VEVENT
DTSTART;TZID=America/New_York:20231222T180000
DTEND;TZID=America/New_York:20231222T220000
DTSTAMP:20260419T234140
CREATED:20231215T192306Z
LAST-MODIFIED:20231215T192306Z
UID:11238-1703268000-1703282400@www.tattooedmomphilly.com
SUMMARY:Room 43 Presents Friday Nights: An Art Showcasing Event
DESCRIPTION:This December 22nd\, Room 43 is back at Tattooed Mom for “Friday Nights at Tattooed Moms”! This event will feature some amazing artists selling and showcasing their work. Entry is donation based\, NOTAFLOF\, and all donations will go to The Evoluer House! HOPE TO SEE Y’ALL THERE!🕺🏽 \n  \nFRIDAY\, DECEMBER 22ND\n6-10PM\nDONATIONS BENEFIT THE EVOLUER HOUSE\n>> NOTAFLOF << \n  \nArtists:\npearlsnchain\nnicolettegroome\nbunkerfish\nnahcroll\nleierherbs\ntuliaday\nteasartroom\nk.a.y.visual\neeeuphoriccc\n333hazel\n3eyecompany\nangelo_doing_stuff \nFollow Room 43 on Instagram. \n*** \nWhat’s Up at TMoms: \n• Daily Happy Hour | All drafts are just $4 every day from 4-6pm! \n• Daily Menu | Tattooed Mom will also be serving tasty eats and ice cold drinks all evening. \n• Upstairs dining\, bar access\, and event entry is 21+ w/ valid ID.
URL:https://www.tattooedmomphilly.com/event/room-43-presents-friday-nights-an-art-showcasing-event/
CATEGORIES:Art Show
ATTACH;FMTTYPE=image/jpeg:https://www.tattooedmomphilly.com/wp-content/uploads/2023/12/FRIDAYATTAT.jpeg
END:VEVENT
END:VCALENDAR