BEGIN:VCALENDAR
VERSION:2.0
PRODID:-//Tattooed Mom - ECPv5.9.0//NONSGML v1.0//EN
CALSCALE:GREGORIAN
METHOD:PUBLISH
X-WR-CALNAME:Tattooed Mom
X-ORIGINAL-URL:https://www.tattooedmomphilly.com
X-WR-CALDESC:Events for Tattooed Mom
BEGIN:VTIMEZONE
TZID:America/New_York
BEGIN:DAYLIGHT
TZOFFSETFROM:-0500
TZOFFSETTO:-0400
TZNAME:EDT
DTSTART:20240310T070000
END:DAYLIGHT
BEGIN:STANDARD
TZOFFSETFROM:-0400
TZOFFSETTO:-0500
TZNAME:EST
DTSTART:20241103T060000
END:STANDARD
END:VTIMEZONE
BEGIN:VEVENT
DTSTART;TZID=America/New_York:20240406T120000
DTEND;TZID=America/New_York:20240406T233000
DTSTAMP:20260425T193922
CREATED:20240401T174959Z
LAST-MODIFIED:20240401T175231Z
UID:12058-1712404800-1712446200@www.tattooedmomphilly.com
SUMMARY:Rex Manning Day Special at TMoms
DESCRIPTION:“We mustn’t dwell. No\, not today. We can’t. Not on Rex Manning day!” \n💿💜🕺🎥 \nSEXY REXY CORN DOG SPECIAL\nVegan Corn Dog + (optional) Vegan Ranch Side \n  \n \n  \nDamn the man & celebrate Rex Manning Day with a TMoms vegan corn dog special on Saturday\, April 6th! Make sure to also hit up the Rex Manning Block Party (530 S. 4th) hosted by South Street Art Mart! \n  \nAvailable on 4/6\nOnly at Tattooed Mom!! \n💿💜🕺🎥 \n  \n*** \nWhat’s Up at TMoms: \n• Daily Happy Hour | All drafts are just $4 every day from 4-6pm! \n• Daily Menu | Tattooed Mom will also be serving tasty eats and ice cold drinks all evening. \n• Upstairs dining\, bar access\, and event entry is 21+ w/ valid ID. \n• Accessibility at TMoms | Due to the construction of our historical building\, Tattooed Mom is only partially accessible. Our event space is on the second floor\, which is only accessible via a flight of stairs (20 steps\, 3 feet wide\, railing on the left side only). For more information\, please visit our Accessibility page.
URL:https://www.tattooedmomphilly.com/event/rex-manning-day-special-at-tmoms/
CATEGORIES:Food & Drink
ATTACH;FMTTYPE=image/png:https://www.tattooedmomphilly.com/wp-content/uploads/2024/03/Sexy-rexy.png
END:VEVENT
END:VCALENDAR