BEGIN:VCALENDAR
VERSION:2.0
PRODID:-//Tattooed Mom - ECPv5.9.0//NONSGML v1.0//EN
CALSCALE:GREGORIAN
METHOD:PUBLISH
X-WR-CALNAME:Tattooed Mom
X-ORIGINAL-URL:https://www.tattooedmomphilly.com
X-WR-CALDESC:Events for Tattooed Mom
BEGIN:VTIMEZONE
TZID:America/New_York
BEGIN:DAYLIGHT
TZOFFSETFROM:-0500
TZOFFSETTO:-0400
TZNAME:EDT
DTSTART:20260308T070000
END:DAYLIGHT
BEGIN:STANDARD
TZOFFSETFROM:-0400
TZOFFSETTO:-0500
TZNAME:EST
DTSTART:20261101T060000
END:STANDARD
END:VTIMEZONE
BEGIN:VEVENT
DTSTART;TZID=America/New_York:20260531T120000
DTEND;TZID=America/New_York:20260531T160000
DTSTAMP:20260425T152115
CREATED:20260421T174136Z
LAST-MODIFIED:20260421T174204Z
UID:16563-1780228800-1780243200@www.tattooedmomphilly.com
SUMMARY:Philly Pet Group Munch
DESCRIPTION:Join us for a relaxed Pet Play Munch with the Philly Pet Group! We’ll be gathering in the upstairs back room at Tattooed Mom on Sunday\, May 31 from 12–4 PM for an afternoon of community\, conversation\, and connection. \nA munch is a casual\, public meetup where folks come together to socialize over food and drinks — no play\, just good vibes and friendly faces. Whether you’re new\, curious\, or have been part of the community for years\, all are welcome. \n  \nSUNDAY\, MAY 31ST\n12-4PM\nNO COVER // FREE FUN \n  \nWhat to expect:\n• A welcoming\, low-pressure space\n• Community-focused socializing\n• Food & drinks available for purchase from the bar \nGuidelines:\n• Gear is welcome but must be restaurant-appropriate (keep it respectful and covered)\n• Please be mindful of the space\, staff\, and other guests\n• Always ask for consent before photos or sharing them \nCome hang out\, meet new people\, and build community in a fun\, inclusive environment  \n  \nFollow Philly Pet Night on Instagram. \n*** \nWhat’s Up at TMoms: \n• Sundays\, All Day Long | if u didn’t get glitter in ur drink did you even craft sunday? Craft Sundays at TMoms every sunday\, play both upstairs and downstairs. u heard me\, both. \n• Daily Happy Hour | $4 drafts every day from 4-6pm\, everybody cheered! \n• Daily Menu | Tattooed Mom will also be serving tasty eats and ice cold drinks all evening. \n• Upstairs dining\, bar access\, and event entry is 21+ w/ valid ID. \n• Accessibility at TMoms | Due to the construction of our historical building\, Tattooed Mom is only partially accessible. Our event space is on the second floor\, which is only accessible via a flight of stairs (20 steps\, 3 feet wide\, railing on the left side only). For more information\, please visit our Accessibility page.
URL:https://www.tattooedmomphilly.com/event/philly-pet-group-munch/
CATEGORIES:Meetup
ATTACH;FMTTYPE=image/jpeg:https://www.tattooedmomphilly.com/wp-content/uploads/2026/04/IMG_9536.jpeg
END:VEVENT
END:VCALENDAR