BEGIN:VCALENDAR
VERSION:2.0
PRODID:-//Tattooed Mom - ECPv5.9.0//NONSGML v1.0//EN
CALSCALE:GREGORIAN
METHOD:PUBLISH
X-WR-CALNAME:Tattooed Mom
X-ORIGINAL-URL:https://www.tattooedmomphilly.com
X-WR-CALDESC:Events for Tattooed Mom
BEGIN:VTIMEZONE
TZID:America/New_York
BEGIN:DAYLIGHT
TZOFFSETFROM:-0500
TZOFFSETTO:-0400
TZNAME:EDT
DTSTART:20260308T070000
END:DAYLIGHT
BEGIN:STANDARD
TZOFFSETFROM:-0400
TZOFFSETTO:-0500
TZNAME:EST
DTSTART:20261101T060000
END:STANDARD
END:VTIMEZONE
BEGIN:VEVENT
DTSTART;TZID=America/New_York:20260513T160000
DTEND;TZID=America/New_York:20260513T230000
DTSTAMP:20260425T071153
CREATED:20260423T212116Z
LAST-MODIFIED:20260423T212238Z
UID:16570-1778688000-1778713200@www.tattooedmomphilly.com
SUMMARY:Philly Loves PAWS Day 2026
DESCRIPTION:Raise a glass for our furry pals\, fuzzy buddies\, and animals of all kinds! \nWe’ll be donating 10% of our sales on Wednesday\, May 13th to PAWS! Across Philadelphia\, businesses and animal lovers join together for a day-long\, citywide fundraiser in support of PAWS’ lifesaving efforts. Restaurants\, shops\, and more will donate at least 10% of proceeds to bring Philadelphia closer to becoming a no-kill city. \n  \nWEDNESDAY\, MAY 13TH\nALL DAY LONG\n10% OF ALL SALES DONATED TO PAWS\nMORE INFO: PHILLY LOVES PAWS DAY \n  \n \n  \nFollow Philly PAWS on Instagram. \n  \n*** \nWhat’s Up at TMoms: \n• Wednesday\, 4-10pm | they’re a smash hit for a reason. Smash Burgers (classic or vegan) every Wednesday for just $6!! u heard that right! + $3 PBR! RUN!!! \n• Daily Happy Hour | $4 drafts every day from 4-6pm\, everybody cheered! \n• Daily Menu | Tattooed Mom will also be serving tasty eats and ice cold drinks all evening. \n• Upstairs dining\, bar access\, and event entry is 21+ w/ valid ID. \n• Accessibility at TMoms | Due to the construction of our historical building\, Tattooed Mom is only partially accessible. Our event space is on the second floor\, which is only accessible via a flight of stairs (20 steps\, 3 feet wide\, railing on the left side only). For more information\, please visit our Accessibility page.
URL:https://www.tattooedmomphilly.com/event/philly-loves-paws-day-2026/
CATEGORIES:Benefit Party,Food & Drink
ATTACH;FMTTYPE=image/png:https://www.tattooedmomphilly.com/wp-content/uploads/2026/04/paws-2026.png
END:VEVENT
END:VCALENDAR