BEGIN:VCALENDAR
VERSION:2.0
PRODID:-//Tattooed Mom - ECPv5.9.0//NONSGML v1.0//EN
CALSCALE:GREGORIAN
METHOD:PUBLISH
X-WR-CALNAME:Tattooed Mom
X-ORIGINAL-URL:https://www.tattooedmomphilly.com
X-WR-CALDESC:Events for Tattooed Mom
BEGIN:VTIMEZONE
TZID:America/New_York
BEGIN:DAYLIGHT
TZOFFSETFROM:-0500
TZOFFSETTO:-0400
TZNAME:EDT
DTSTART:20170312T070000
END:DAYLIGHT
BEGIN:STANDARD
TZOFFSETFROM:-0400
TZOFFSETTO:-0500
TZNAME:EST
DTSTART:20171105T060000
END:STANDARD
END:VTIMEZONE
BEGIN:VEVENT
DTSTART;TZID=America/New_York:20171102T190000
DTEND;TZID=America/New_York:20171102T220000
DTSTAMP:20260421T222821
CREATED:20171017T162947Z
LAST-MODIFIED:20171017T163059Z
UID:2009-1509649200-1509660000@www.tattooedmomphilly.com
SUMMARY:Philly Loves Fear: The Barn
DESCRIPTION:Halloween might be on the 31st but Philly Loves Fear continues the party into November with indie horror with THE BARN\, a sinister 80’s-style tribute to horror with wacky horror characters The Boogeyman\, Hallowed Jack & The Candycorn Scarecrow. \nPlus\, they’ll be screening two shorts….CONNIE\, a frustrated comedienne finds new confidence when she buys a demonic Muppets-type puppet to aid her in her performance\, & FLESH\, written and directed by L.C. Cruell! \nFREE FUN!\nHalloween treats!\nCostumes encouraged!\nDoors open at 7\, show starts at 7:30 \n 
URL:https://www.tattooedmomphilly.com/event/philly-loves-fear-barn/
CATEGORIES:Film Screening
ATTACH;FMTTYPE=image/jpeg:https://www.tattooedmomphilly.com/wp-content/uploads/2017/10/PhillyLovesFear.jpg
END:VEVENT
END:VCALENDAR