BEGIN:VCALENDAR
VERSION:2.0
PRODID:-//Tattooed Mom - ECPv5.9.0//NONSGML v1.0//EN
CALSCALE:GREGORIAN
METHOD:PUBLISH
X-WR-CALNAME:Tattooed Mom
X-ORIGINAL-URL:https://www.tattooedmomphilly.com
X-WR-CALDESC:Events for Tattooed Mom
BEGIN:VTIMEZONE
TZID:America/New_York
BEGIN:DAYLIGHT
TZOFFSETFROM:-0500
TZOFFSETTO:-0400
TZNAME:EDT
DTSTART:20190310T070000
END:DAYLIGHT
BEGIN:STANDARD
TZOFFSETFROM:-0400
TZOFFSETTO:-0500
TZNAME:EST
DTSTART:20191103T060000
END:STANDARD
END:VTIMEZONE
BEGIN:VEVENT
DTSTART;TZID=America/New_York:20190208T180000
DTEND;TZID=America/New_York:20190208T230000
DTSTAMP:20260420T002124
CREATED:20190131T225217Z
LAST-MODIFIED:20190131T225217Z
UID:4470-1549648800-1549666800@www.tattooedmomphilly.com
SUMMARY:Philadelphia Secret Admirer Benefit Art Show & Kickstarter Party
DESCRIPTION:Join us Friday\, February 8th for a group art show to benefit the Philadelphia Secret Admirer! Featuring 15+ contributors and up-close encounters with our editorial staff! Witness the WORLD PREMIER of their first foray into film\, Phase One of the Third Phase of the Philadelphia Secret Admirer\, with the help of Jerks Productions! \nThis show is also a celebration of their impending Kickstarter campaign launch\, which will help fund another year of the Philadelphia Secret Admirer! Don’t miss out on the first screening of their Kickstarter video\, and make sure you show up to support local Philadelphia art & artists! \nFREE\n21+ w/ valid ID \nCome for the top-shelf earthy atmosphere & stay for a chance to be part of history! Show your support by purchasing merchandise\, back issues\, artwork from the show\, or by simply saying hello and exchanging moist awkward handshakes with the avatars of mental illness & champions-of-the-bored-and-lonely that you’ve all come to love. Donations are welcome\, but absolutely not required. \nFEATURING:\nNate Hurst\nKristin Scholz\nPat Aulisio\nBox Brown\nRodger Binyone\nKevin Spaghetti\nCassidy McGinley\nTia Roxae\nAubrie Costello\nBianca Bee Fanty\nJustin Duerr\nLeta Gray\nRob Woods\nRachel Pfeffer\nDavid Otter \nEnjoy this event with happy hour drafts from 5-7pm & 10-11pm! \nFollow the Philadelphia Secret Admirer on Instagram to stay up to date with new issues & their campaign!
URL:https://www.tattooedmomphilly.com/event/philadelphia-secret-admirer-benefit-art-show-kickstarter-party/
CATEGORIES:Art Show
ATTACH;FMTTYPE=image/png:https://www.tattooedmomphilly.com/wp-content/uploads/2019/01/2-8_SecretAdmirer.png
END:VEVENT
END:VCALENDAR