BEGIN:VCALENDAR
VERSION:2.0
PRODID:-//Tattooed Mom - ECPv5.9.0//NONSGML v1.0//EN
CALSCALE:GREGORIAN
METHOD:PUBLISH
X-WR-CALNAME:Tattooed Mom
X-ORIGINAL-URL:https://www.tattooedmomphilly.com
X-WR-CALDESC:Events for Tattooed Mom
BEGIN:VTIMEZONE
TZID:America/New_York
BEGIN:DAYLIGHT
TZOFFSETFROM:-0500
TZOFFSETTO:-0400
TZNAME:EDT
DTSTART:20230312T070000
END:DAYLIGHT
BEGIN:STANDARD
TZOFFSETFROM:-0400
TZOFFSETTO:-0500
TZNAME:EST
DTSTART:20231105T060000
END:STANDARD
END:VTIMEZONE
BEGIN:VEVENT
DTSTART;TZID=America/New_York:20230315T190000
DTEND;TZID=America/New_York:20230315T220000
DTSTAMP:20260419T161309
CREATED:20230302T030752Z
LAST-MODIFIED:20230302T051753Z
UID:9526-1678906800-1678917600@www.tattooedmomphilly.com
SUMMARY:Next In Line Comedy: Free F#ckin’ Comedy Show // March 2023
DESCRIPTION:Recently voted “Best Comedy Night” by Philly Mag\, Next In Line Comedy is a Philadelphia-based comedy collective run by comedians Manny Brown and Tyler Wolf. The group has also been featured in PhillyVoice and Thrillist. \nNext In Line is now bringing the dopest comedy showcase in town to Tattooed Mom’s on Wednesday\, February 8th at 8pm (Doors at 7pm) and it’s Free.99! \nThe show gives quickly rising comedians\, who are ‘next in line\,’ a space to work on their acts while providing Philly audiences a chance to watch incredible stand-up comedy at a low price\, in this case for FREE. Shows have featured top comics from NYC\, LA\, Philly\, and beyond\, with credits from Comedy Central\, Netflix\, HBO\, MTV\, and more! \n  \nWEDNESDAY\, MARCH 15TH\nDOORS 7PM // SHOW 8PM\nNO COVER // FREE FUN\nRSVP: FB EVENT | EVENTBRITE (RSVP) \n  \nFeaturing:\nPeggy O’Leary\nSpark Tabor\nSeamus Millar\nLogan Malin\nAmber Born\nMaeve Hennessy\nJad S.\nTyler Wolf \n  \n*** \nWhat’s Up at TMoms: \n• Burger Wednesday is BACK y’all! Come slam some Smash Burgers (classic or vegan) every Wednesday for just $6!! Plus $3 PBR! Wednesdays\, 4-11pm. \n• Enjoy our new happy hour! All drafts are just $4 every day from 4-6pm! \n• Tattooed Mom will also be serving tasty eats and ice cold drinks all evening. \n• Upstairs dining\, bar access\, and event entry is 21+ w/ valid ID.
URL:https://www.tattooedmomphilly.com/event/next-in-line-comedy-free-fckin-comedy-show-march-2023/
CATEGORIES:Burger Wednesday,Comedy,Live Performance
ATTACH;FMTTYPE=image/jpeg:https://www.tattooedmomphilly.com/wp-content/uploads/2023/03/NEXTINLINE_FREE_FLYER_2.jpeg
END:VEVENT
END:VCALENDAR