BEGIN:VCALENDAR
VERSION:2.0
PRODID:-//Tattooed Mom - ECPv5.9.0//NONSGML v1.0//EN
CALSCALE:GREGORIAN
METHOD:PUBLISH
X-WR-CALNAME:Tattooed Mom
X-ORIGINAL-URL:https://www.tattooedmomphilly.com
X-WR-CALDESC:Events for Tattooed Mom
BEGIN:VTIMEZONE
TZID:America/New_York
BEGIN:DAYLIGHT
TZOFFSETFROM:-0500
TZOFFSETTO:-0400
TZNAME:EDT
DTSTART:20210314T070000
END:DAYLIGHT
BEGIN:STANDARD
TZOFFSETFROM:-0400
TZOFFSETTO:-0500
TZNAME:EST
DTSTART:20211107T060000
END:STANDARD
BEGIN:DAYLIGHT
TZOFFSETFROM:-0500
TZOFFSETTO:-0400
TZNAME:EDT
DTSTART:20220313T070000
END:DAYLIGHT
BEGIN:STANDARD
TZOFFSETFROM:-0400
TZOFFSETTO:-0500
TZNAME:EST
DTSTART:20221106T060000
END:STANDARD
END:VTIMEZONE
BEGIN:VEVENT
DTSTART;TZID=America/New_York:20211231T170000
DTEND;TZID=America/New_York:20220101T020000
DTSTAMP:20260419T163400
CREATED:20211223T160125Z
LAST-MODIFIED:20211231T162318Z
UID:8002-1640970000-1641002400@www.tattooedmomphilly.com
SUMMARY:New Year's Eve 2021
DESCRIPTION:Celebrate New Year’s Eve Tattooed Mom-style: fun\, festive\, & full of good cheer! \nGrab some complimentary New Year’s swag to party with\, plus limited edition postcards & poster art by Pat Aulisio / @yeahdudecomics (so you can send all your New Year’s greetings in style)! \n⊳ Strawberry Alarm Clock cocktail\, specially crafted for New Year’s Eve 2021 / New Year’s Day 2022!\n⊳ TMOMs full food & drink menu!\n⊳ PLUS: $4 happy hour drafts from 5-6pm!\n⊳ Open 5pm ’til 2am! \nNO COVER // CREATIVE COCKTAILS //  KITCHEN OPEN LATE\nUPDATED HOURS\nOpen: 5pm – 2am \nRing in the New Year with friends old & new at TMOMs (Remember friends? And hanging out IRL???) and welcome 2022 without breaking the bank! Toast to a better tomorrow and a year full of growth and adventure with our Strawberry Alarm Clock canned cocktail\, specially crafted for the holiday spirit! \nLimited capacity • Proof of vaccination required for all indoor guests \n♥︎♥︎ Love & Good Times Always ♥︎♥︎ \nJoin the Facebook Event and invite all your pals!\nCheck out our New Year’s Day specials here! \nHappy New Year from all of us at Mom’s!
URL:https://www.tattooedmomphilly.com/event/new-years-eve-2021/
CATEGORIES:Food & Drink,Party
ATTACH;FMTTYPE=image/jpeg:https://www.tattooedmomphilly.com/wp-content/uploads/2021/12/NEW-YEARS-2022-POSTER.jpg
END:VEVENT
END:VCALENDAR