BEGIN:VCALENDAR
VERSION:2.0
PRODID:-//Tattooed Mom - ECPv5.9.0//NONSGML v1.0//EN
CALSCALE:GREGORIAN
METHOD:PUBLISH
X-WR-CALNAME:Tattooed Mom
X-ORIGINAL-URL:https://www.tattooedmomphilly.com
X-WR-CALDESC:Events for Tattooed Mom
BEGIN:VTIMEZONE
TZID:America/New_York
BEGIN:DAYLIGHT
TZOFFSETFROM:-0500
TZOFFSETTO:-0400
TZNAME:EDT
DTSTART:20240310T070000
END:DAYLIGHT
BEGIN:STANDARD
TZOFFSETFROM:-0400
TZOFFSETTO:-0500
TZNAME:EST
DTSTART:20241103T060000
END:STANDARD
END:VTIMEZONE
BEGIN:VEVENT
DTSTART;TZID=America/New_York:20240101T120000
DTEND;TZID=America/New_York:20240101T230000
DTSTAMP:20260419T202135
CREATED:20231216T180329Z
LAST-MODIFIED:20231223T170547Z
UID:11252-1704110400-1704150000@www.tattooedmomphilly.com
SUMMARY:New Year’s Day 2024
DESCRIPTION:~ January 1st is Philly’s unofficial favorite holiday ~ \nWe’ll be welcoming in the first day of 2024 with FREE New Year’s Day goodies\, plus limited edition postcards & poster art by by Sea of Doom! So sleep in late\, stay in your pjs\, & join us for a New Year’s Day celebration not to be missed! \n  \nSUNDAY\, JANUARY 1ST\, 2023\nNYD HOURS: 12pm – 11pm (both floors) \n  \nHIGHLIGHTS INCLUDE:\n• FOOD | TMoms’ full food & drink menu all day long plus FREE lucky pork & vegan pork!\n• HOLIDAY COCKTAIL | Tis The Damn Season available now through NYD!\n• HAPPY HOURS | $4 happy hour drafts from 4-6pm & 10-11pm!\n• FREE | Free entry\, free holiday goodies\, and free 2024 postcards! And don’t forget our FREE lucky pork & vegan pork (available while supplies last)!\n• & MORE \n  \nJoin us for some FREE FUN to celebrate the FIRST DAY of the NEW YEAR! \n  \n \n  \n \n  \nGrab some complimentary New Year’s goodies to party with\, plus limited edition postcards & poster art by Sea of Doom (so you can send all your New Year’s greetings in style)! And make sure you snag a round of our speciality holiday cocktail\, Tis the Damn Season\, and give three cheers to whatever you are celebrating! \n  \nIt’s a NYD celebration that will leave you happy\, well-fed\, and without any overdraft notifications from your bank! And on December 31st\, we’re also hosting a free NYE celebration that won’t break the bank! \n  \n♥︎♥︎ Love & Good Times Always ♥︎♥︎ \nCheck out our New Year’s Eve specials here! \nHappy New Year from all of us at Mom’s!
URL:https://www.tattooedmomphilly.com/event/new-years-day-2024/
CATEGORIES:Food & Drink,Party
ATTACH;FMTTYPE=image/jpeg:https://www.tattooedmomphilly.com/wp-content/uploads/2023/12/new-years-2024-poster.jpg
END:VEVENT
END:VCALENDAR