BEGIN:VCALENDAR
VERSION:2.0
PRODID:-//Tattooed Mom - ECPv5.9.0//NONSGML v1.0//EN
CALSCALE:GREGORIAN
METHOD:PUBLISH
X-WR-CALNAME:Tattooed Mom
X-ORIGINAL-URL:https://www.tattooedmomphilly.com
X-WR-CALDESC:Events for Tattooed Mom
BEGIN:VTIMEZONE
TZID:America/New_York
BEGIN:DAYLIGHT
TZOFFSETFROM:-0500
TZOFFSETTO:-0400
TZNAME:EDT
DTSTART:20180311T070000
END:DAYLIGHT
BEGIN:STANDARD
TZOFFSETFROM:-0400
TZOFFSETTO:-0500
TZNAME:EST
DTSTART:20181104T060000
END:STANDARD
END:VTIMEZONE
BEGIN:VEVENT
DTSTART;TZID=America/New_York:20181004T190000
DTEND;TZID=America/New_York:20181005T000000
DTSTAMP:20260422T074641
CREATED:20180929T022851Z
LAST-MODIFIED:20181005T185538Z
UID:3713-1538679600-1538697600@www.tattooedmomphilly.com
SUMMARY:NACCC Kick-Off Party & Art Show
DESCRIPTION:The North American Cycling Courier Championships are being held in Philadelphia this year\, so whether you’re from out of town or a TMOMs regular\, join us for some BEERS\, BURGERS\, and ART to celebrate the start of the championships! \nThursday\, October 4th from 7pm ’til 12am.\nFree | Upstairs | 21+ \nFeaturing Art From:\nDan Murphy\nHeather L. MacKinnon\nBrandon Lockfoot\nJess Craine\nMessbagscollective\nBrooke Vickery \nEnjoy half off all drafts before and during this event from 5-7pm and 10-11pm\n+ dig into our full menu (kitchen open until 1:30am every day)! \nFollow NACCC on Facebook and Instagram for more info on the race & other events! \n \n 
URL:https://www.tattooedmomphilly.com/event/naccc-kick-off-party-art-show/
CATEGORIES:Art Show,Community
ATTACH;FMTTYPE=image/jpeg:https://www.tattooedmomphilly.com/wp-content/uploads/2018/09/10-4_NACCC_21.jpg
END:VEVENT
END:VCALENDAR