BEGIN:VCALENDAR
VERSION:2.0
PRODID:-//Tattooed Mom - ECPv5.9.0//NONSGML v1.0//EN
CALSCALE:GREGORIAN
METHOD:PUBLISH
X-WR-CALNAME:Tattooed Mom
X-ORIGINAL-URL:https://www.tattooedmomphilly.com
X-WR-CALDESC:Events for Tattooed Mom
BEGIN:VTIMEZONE
TZID:America/New_York
BEGIN:DAYLIGHT
TZOFFSETFROM:-0500
TZOFFSETTO:-0400
TZNAME:EDT
DTSTART:20200308T070000
END:DAYLIGHT
BEGIN:STANDARD
TZOFFSETFROM:-0400
TZOFFSETTO:-0500
TZNAME:EST
DTSTART:20201101T060000
END:STANDARD
END:VTIMEZONE
BEGIN:VEVENT
DTSTART;TZID=America/New_York:20200218T193000
DTEND;TZID=America/New_York:20200218T223000
DTSTAMP:20260421T171833
CREATED:20200201T213405Z
LAST-MODIFIED:20200207T202653Z
UID:6572-1582054200-1582065000@www.tattooedmomphilly.com
SUMMARY:May The Fierce Be With You: A Star Wars Drag & Burlesque Tribute
DESCRIPTION:Do you fantasize about racing Skyhoppers with your pal Biggs on the desert planet of Tatooine? Ever wonder why a Tauntaun’s innards resemble white cheddar cheese curls more than actual organs? Have you ever been called a “stuck-up\, half-witted\, scruffy-looking nerf herder?” Do you like the taste of blue milk? \nIf you answered yes to any of these questions\, then you CANNOT miss this show! \nUPSTAIRS // SUGGESTED DONATION // 21+ w/ VALID ID \nJoin host Balena Canto and an amazing cast of performers as they celebrate\, geek out\, and bring your favorite Star Wars characters to life in this drag & burlesque tribute to one of the greatest sci-fi sagas of our time! In addition to the performances\, there will be Star Wars themed trivia\, games\, and challenges where the audience can play to win prizes! Wherever you are in the galaxy\, we hope you’ll stop by our little Cantina and join in the fun! \nFeaturing:\nDominique Lee\nEffervescence\nRenaissance Noir\nSummer\nVirtex.exe \nEnjoy this event with our Taco Tuesday specials:\n$1 Tacos\n$2.50 Tecate\na special Taco of the Month\,\n& half price drafts 5-7pm and 10-11pm \nJoin the Facebook Event and invite all your Star Wars loving pals!
URL:https://www.tattooedmomphilly.com/event/may-fierce-star-wars-drag-burlesque-tribute/
CATEGORIES:Live Performance
ATTACH;FMTTYPE=image/jpeg:https://www.tattooedmomphilly.com/wp-content/uploads/2020/02/2-18_StarWars.jpg
END:VEVENT
END:VCALENDAR