BEGIN:VCALENDAR
VERSION:2.0
PRODID:-//Tattooed Mom - ECPv5.9.0//NONSGML v1.0//EN
CALSCALE:GREGORIAN
METHOD:PUBLISH
X-WR-CALNAME:Tattooed Mom
X-ORIGINAL-URL:https://www.tattooedmomphilly.com
X-WR-CALDESC:Events for Tattooed Mom
BEGIN:VTIMEZONE
TZID:America/New_York
BEGIN:DAYLIGHT
TZOFFSETFROM:-0500
TZOFFSETTO:-0400
TZNAME:EDT
DTSTART:20230312T070000
END:DAYLIGHT
BEGIN:STANDARD
TZOFFSETFROM:-0400
TZOFFSETTO:-0500
TZNAME:EST
DTSTART:20231105T060000
END:STANDARD
END:VTIMEZONE
BEGIN:VEVENT
DTSTART;TZID=America/New_York:20230604T130000
DTEND;TZID=America/New_York:20230604T160000
DTSTAMP:20260425T214638
CREATED:20230525T224059Z
LAST-MODIFIED:20230525T224059Z
UID:9935-1685883600-1685894400@www.tattooedmomphilly.com
SUMMARY:Lauren Hilger's Morality Play: A Poetry Reading
DESCRIPTION:“Lauren Hilger’s Morality Play is a dance lesson in duality\, when duality is multiplied\, of what was\, what is\, real and imagined. A disquieting reassuring look at how we see who we were\, Hilger’s visions feel like past and future encouragement. An all-knowing theatre performance. I found myself unable to shake one of the opening lines\, “I know how to live my life now.” Because by the end of the book\, I feel I do too.” —Shauna Barbosa \n  \nSUNDAY\, JUNE 4TH\n1-4PM\nNO COVER // FREE FUN \n  \nReaders include: \nJiordan Castle is the author of Disappearing Act\, a memoir-in-verse\, as well as the poetry chapbook All His Breakable Things. Her work has appeared in HuffPost\, The New Yorker\, The Rumpus\, and elsewhere. She is a contributor to the food and culture magazine Compound Butter. She lives in Philadelphia with her husband and their dog. \nKay Cosgrove is the author of Anybody Home?\, forthcoming in August 2023 from Blue Edge Books. She is the recipient of awards from The Academy of American Poets\, Inprint Houston\, and The Westchester Review and her poetry has appeared in The Southern Review\, The Missouri Review\, the American Poetry Review Review and elsewhere. \nAlex Santiago is a poet\, spoken word\, rapper currently residing in Philadelphia\, PA. \nLauren Hilger is the author of Morality Play (Poetry NW Editions\, 2022). Named a Nadya Aisenberg Fellow from MacDowell\, her work has appeared in BOMB\, Harvard Review\, Kenyon Review\, and elsewhere. She serves as a poetry editor for No Tokens. \n  \n*** \nWhat’s Up at TMoms: \n• Craft Sundays at TMoms? BACK. Googly eyes? BACK. Coloring pages? BACK? Your creative spirit? BACK. Come thru every Sunday for FREE arts & crafts upstairs and downstairs at Tattooed Mom! Sundays\, All Day Long. \n• Enjoy our happy hour! All drafts are just $4 every day from 4-6pm! \n• Tattooed Mom will also be serving tasty eats and ice cold drinks all evening. \n• Upstairs dining\, bar access\, and event entry is 21+ w/ valid ID.
URL:https://www.tattooedmomphilly.com/event/lauren-hilgers-morality-play-a-poetry-reading/
CATEGORIES:Literary Event
ATTACH;FMTTYPE=image/jpeg:https://www.tattooedmomphilly.com/wp-content/uploads/2023/05/event.jpg
END:VEVENT
END:VCALENDAR