BEGIN:VCALENDAR
VERSION:2.0
PRODID:-//Tattooed Mom - ECPv5.9.0//NONSGML v1.0//EN
CALSCALE:GREGORIAN
METHOD:PUBLISH
X-WR-CALNAME:Tattooed Mom
X-ORIGINAL-URL:https://www.tattooedmomphilly.com
X-WR-CALDESC:Events for Tattooed Mom
BEGIN:VTIMEZONE
TZID:America/New_York
BEGIN:DAYLIGHT
TZOFFSETFROM:-0500
TZOFFSETTO:-0400
TZNAME:EDT
DTSTART:20190310T070000
END:DAYLIGHT
BEGIN:STANDARD
TZOFFSETFROM:-0400
TZOFFSETTO:-0500
TZNAME:EST
DTSTART:20191103T060000
END:STANDARD
END:VTIMEZONE
BEGIN:VEVENT
DTSTART;TZID=America/New_York:20191108T180000
DTEND;TZID=America/New_York:20191108T220000
DTSTAMP:20260425T001047
CREATED:20190918T202812Z
LAST-MODIFIED:20190918T202812Z
UID:5788-1573236000-1573250400@www.tattooedmomphilly.com
SUMMARY:Most Known Unknown IV
DESCRIPTION:The 4th volume of Most Known Unknown is a one night art show\, consisting of seven artists you NEED to know about. Taking place upstairs at Tattooed Mom on November 8th\, from 6pm ‘til 10pm. Original illustrations\, paintings\, photography\, mixed media\, prints and more will be on display and available for purchase. Come out\, support local artists and enjoy some drinks! \nUPSTAIRS // FREE // 21+ \nFeatured artists:\nAlexander Ciambriello\nNisha Dent\nHand Over Fist Signs\nEmily Joynton\nBrendan Lowry\nZach Manbeck\nMuscle Face\nEddie Sturges \nEnjoy this event with half off all drafts 5-7pm & 10-11pm! \nJoin the Facebook Event and invite all your art-loving pals!
URL:https://www.tattooedmomphilly.com/event/known-unknown-iv/
CATEGORIES:Art Show
ATTACH;FMTTYPE=image/jpeg:https://www.tattooedmomphilly.com/wp-content/uploads/2019/09/11-8_MostKnownUnknownIV.jpg
END:VEVENT
END:VCALENDAR