BEGIN:VCALENDAR
VERSION:2.0
PRODID:-//Tattooed Mom - ECPv5.9.0//NONSGML v1.0//EN
CALSCALE:GREGORIAN
METHOD:PUBLISH
X-WR-CALNAME:Tattooed Mom
X-ORIGINAL-URL:https://www.tattooedmomphilly.com
X-WR-CALDESC:Events for Tattooed Mom
BEGIN:VTIMEZONE
TZID:America/New_York
BEGIN:DAYLIGHT
TZOFFSETFROM:-0500
TZOFFSETTO:-0400
TZNAME:EDT
DTSTART:20230312T070000
END:DAYLIGHT
BEGIN:STANDARD
TZOFFSETFROM:-0400
TZOFFSETTO:-0500
TZNAME:EST
DTSTART:20231105T060000
END:STANDARD
END:VTIMEZONE
BEGIN:VEVENT
DTSTART;TZID=America/New_York:20230625T140000
DTEND;TZID=America/New_York:20230625T180000
DTSTAMP:20260419T163112
CREATED:20230605T152921Z
LAST-MODIFIED:20230605T152921Z
UID:9978-1687701600-1687716000@www.tattooedmomphilly.com
SUMMARY:Juicy Goth Presents: Summertime Fine Pop-Up
DESCRIPTION:PULL UP on SUNDAY JUNE 25th for a Summertime Fine Pop-Up at Tattooed Mom! \nSupport local artists by coming out & shopping with them this summer! Tons of handmade items & lots of local talent. \n  \nSUNDAY\, JUNE 25TH\n2-6PM\nNO COVER // FREE FUN\nRSVP: FB EVENT | EVENTBRITE \n  \nFEATURING:\n@alyssadahliacreations\n@motherbishop_\n@eldritchtreeprints\n@ginavracbabini\n@mmefaithhaiku\n@kaicraftsss\n@cheekylavender\n@lizzarddesigns\n@madame_prawn\n@sktch\n@pleasantlyperturbed\n@psyche.delexcreations\n@visionsrisen\n@juicygoth\n@lalalascribbles\n@claythedude \n  \n*** \nWhat’s Up at TMoms: \n• Craft Sundays at TMoms? BACK. Googly eyes? BACK. Coloring pages? BACK? Your creative spirit? BACK. Come thru every Sunday for FREE arts & crafts upstairs and downstairs at Tattooed Mom! Sundays\, All Day Long. \n• Enjoy our happy hour! All drafts are just $4 every day from 4-6pm! \n• Tattooed Mom will also be serving tasty eats and ice cold drinks all evening. \n• Upstairs dining\, bar access\, and event entry is 21+ w/ valid ID.
URL:https://www.tattooedmomphilly.com/event/juicy-goth-presents-summertime-fine-pop-up/
CATEGORIES:Art Show,Craft Sundays,Pop-Up
ATTACH;FMTTYPE=image/jpeg:https://www.tattooedmomphilly.com/wp-content/uploads/2023/06/8AB63E30-045A-4ACB-89BF-685B627252CC.jpeg
END:VEVENT
END:VCALENDAR