BEGIN:VCALENDAR
VERSION:2.0
PRODID:-//Tattooed Mom - ECPv5.9.0//NONSGML v1.0//EN
CALSCALE:GREGORIAN
METHOD:PUBLISH
X-WR-CALNAME:Tattooed Mom
X-ORIGINAL-URL:https://www.tattooedmomphilly.com
X-WR-CALDESC:Events for Tattooed Mom
BEGIN:VTIMEZONE
TZID:America/New_York
BEGIN:DAYLIGHT
TZOFFSETFROM:-0500
TZOFFSETTO:-0400
TZNAME:EDT
DTSTART:20190310T070000
END:DAYLIGHT
BEGIN:STANDARD
TZOFFSETFROM:-0400
TZOFFSETTO:-0500
TZNAME:EST
DTSTART:20191103T060000
END:STANDARD
END:VTIMEZONE
BEGIN:VEVENT
DTSTART;TZID=America/New_York:20190201T180000
DTEND;TZID=America/New_York:20190201T230000
DTSTAMP:20260424T224612
CREATED:20190110T235924Z
LAST-MODIFIED:20190116T181155Z
UID:4328-1549044000-1549062000@www.tattooedmomphilly.com
SUMMARY:Jerks Productions Presents: FUSED Underground\, February 2019
DESCRIPTION:JERKS Productions brings you our giant group art show FUSED UNDERGROUND! As always they will be showcasing some of Philadelphia (and surrounding area)’s best local underground artists\, so join us for a night of ART\, HORROR & BOOZE! \nFree fun! 21+! \nArtists include:\nJoe Giuliani\nThe Offbeat Artist\nMutantland Art\nStefani Laney\nKevyn Knox\nVictoria Schwartz\nCourtney Frank\nIvan Collich\nScott Michael\nBronwen Gale\nTaylor Rudolph\nElisa Ferguson\nStephanie Stevenson\nKaty Ruggiero\nConner Craig\nJaymes Fedor\nJeremy Petrachonis\nJesse Jaws\nLiz Palo Art\nEvan Ewan\nKarolina Krukowska\nDarker Arts Studio\nThe Philadelphia Secret Admirer\nNecro FX\nKatie Stahl\n& MORE TBA! \nFlyer by Nathan Hurst. \nEnjoy this event with happy hour drafts from 5-7pm & 10-11pm\n& a FUSED exclusive cocktail! \nJoin the Facebook Event and invite all your pals!
URL:https://www.tattooedmomphilly.com/event/jerks-productions-presents-fused-underground-february-2019/
CATEGORIES:Art Show
ATTACH;FMTTYPE=image/jpeg:https://www.tattooedmomphilly.com/wp-content/uploads/2019/01/2-1_FUSED.jpg
END:VEVENT
END:VCALENDAR