BEGIN:VCALENDAR
VERSION:2.0
PRODID:-//Tattooed Mom - ECPv5.9.0//NONSGML v1.0//EN
CALSCALE:GREGORIAN
METHOD:PUBLISH
X-WR-CALNAME:Tattooed Mom
X-ORIGINAL-URL:https://www.tattooedmomphilly.com
X-WR-CALDESC:Events for Tattooed Mom
BEGIN:VTIMEZONE
TZID:America/New_York
BEGIN:DAYLIGHT
TZOFFSETFROM:-0500
TZOFFSETTO:-0400
TZNAME:EDT
DTSTART:20190310T070000
END:DAYLIGHT
BEGIN:STANDARD
TZOFFSETFROM:-0400
TZOFFSETTO:-0500
TZNAME:EST
DTSTART:20191103T060000
END:STANDARD
END:VTIMEZONE
BEGIN:VEVENT
DTSTART;TZID=America/New_York:20190607T180000
DTEND;TZID=America/New_York:20190607T230000
DTSTAMP:20260421T190136
CREATED:20190529T163926Z
LAST-MODIFIED:20190530T161722Z
UID:5005-1559930400-1559948400@www.tattooedmomphilly.com
SUMMARY:JERKS Productions Present: FUSED Underground\, June 2019
DESCRIPTION:JERKS Productions is back with another steller installment of their bimonthly group art show\, FUSED UNDERGROUND! As always they will be showcasing some of Philadelphia (and surrounding area)’s best local underground artists\, so join us for a night of ART\, HORROR & BOOZE! \nFree fun! 21+! \nArtists include:\nNecromantic Creations\nRainbow Feather\nDan Kraus\nRed Hot Gal’s Boutique\nKevyn Knox\nKatie Stahl\nDeja Jewels\nsin.deadella\nStevie Laney\nBlack Budget Comix\nMichael Pagdon\nJenna Polascak\nMaggie M\nLindsay Gilbert Art\nIvan Collich\nJames Haitchwai\nJessica Laudicina\nScott Michael\nTilly García\nTaylor Hultquist-Todd\nLiz Palo Art\nKevin Taylor\nErica MacLean\nJason McQuirns\nSardis Disla\nMS AMETHYST\n& MORE TBA! \nFlyer by Jennalea Polascak. \nEnjoy this event with happy hour drafts from 5-7pm & 10-11pm\n& a FUSED exclusive cocktail! \nJoin the Facebook Event and invite all your pals!
URL:https://www.tattooedmomphilly.com/event/jerks-productions-present-fused-underground-june-2019/
CATEGORIES:Art Show
ATTACH;FMTTYPE=image/jpeg:https://www.tattooedmomphilly.com/wp-content/uploads/2019/05/6-7_FUSED.jpg
END:VEVENT
END:VCALENDAR