BEGIN:VCALENDAR
VERSION:2.0
PRODID:-//Tattooed Mom - ECPv5.9.0//NONSGML v1.0//EN
CALSCALE:GREGORIAN
METHOD:PUBLISH
X-WR-CALNAME:Tattooed Mom
X-ORIGINAL-URL:https://www.tattooedmomphilly.com
X-WR-CALDESC:Events for Tattooed Mom
BEGIN:VTIMEZONE
TZID:America/New_York
BEGIN:DAYLIGHT
TZOFFSETFROM:-0500
TZOFFSETTO:-0400
TZNAME:EDT
DTSTART:20180311T070000
END:DAYLIGHT
BEGIN:STANDARD
TZOFFSETFROM:-0400
TZOFFSETTO:-0500
TZNAME:EST
DTSTART:20181104T060000
END:STANDARD
END:VTIMEZONE
BEGIN:VEVENT
DTSTART;TZID=America/New_York:20180531T200000
DTEND;TZID=America/New_York:20180531T220000
DTSTAMP:20260425T160233
CREATED:20180429T232211Z
LAST-MODIFIED:20180429T232211Z
UID:2924-1527796800-1527804000@www.tattooedmomphilly.com
SUMMARY:iThink Reading
DESCRIPTION:MACHO GOAT is in production of its first full length feature film which will be released for the Digital Fringe this September. Be apart of history and come to our reading which is open to the public. The show is completely free and there will be a discussion after. \nA computer is infected and is implementing a protocol to find the virus to destroy it. The protocol travels through different programs which embody themselves as all aspects of humanity. Everything from a detective 40’s Noer to a viking revenge story is experienced in this digital Greek epic. What does it mean to be human? Why are we here? These are a few of the questions explored in this piece.  \nDoors 7pm\nReading 8pm\nDiscussion 9-10pm \nEnjoy this event with our Pierogi Thursday specials:\n50¢ pierogi from noon-10pm\n& half off all drafts 5-7pm and 10-11pm \nJoin the Facebook Event and invite all your friends! \n 
URL:https://www.tattooedmomphilly.com/event/ithink-reading/
CATEGORIES:Literary Event,Live Performance
ATTACH;FMTTYPE=image/jpeg:https://www.tattooedmomphilly.com/wp-content/uploads/2018/04/5-31_iThinkPhoto.jpg
END:VEVENT
END:VCALENDAR