BEGIN:VCALENDAR
VERSION:2.0
PRODID:-//Tattooed Mom - ECPv5.9.0//NONSGML v1.0//EN
CALSCALE:GREGORIAN
METHOD:PUBLISH
X-WR-CALNAME:Tattooed Mom
X-ORIGINAL-URL:https://www.tattooedmomphilly.com
X-WR-CALDESC:Events for Tattooed Mom
BEGIN:VTIMEZONE
TZID:America/New_York
BEGIN:DAYLIGHT
TZOFFSETFROM:-0500
TZOFFSETTO:-0400
TZNAME:EDT
DTSTART:20240310T070000
END:DAYLIGHT
BEGIN:STANDARD
TZOFFSETFROM:-0400
TZOFFSETTO:-0500
TZNAME:EST
DTSTART:20241103T060000
END:STANDARD
END:VTIMEZONE
BEGIN:VEVENT
DTSTART;TZID=America/New_York:20240726T180000
DTEND;TZID=America/New_York:20240726T230000
DTSTAMP:20260425T150117
CREATED:20240703T172124Z
LAST-MODIFIED:20241017T211718Z
UID:12525-1722016800-1722034800@www.tattooedmomphilly.com
SUMMARY:Influx of HEAT Art Show
DESCRIPTION:Get ready for INFLUX of heat 🔥 Our DJs will play heaters all night long that will make you sweat. Our local vendors will have the hottest merchandise in town. And your retinas will melt when you see holographicas simulation. \n  \nFRIDAY\, JULY 26TH\n6-11PM\nNO COVER // FREE FUN \n  \nHosted by Randu Art & Curb Couch Market \nArtists Include:\nCowboy Etiquette\nKAM House\nBake Bake Philly\nLavish-Li Made\nLeann the Illustrator\nLiana Inks\nMolly Lloyd\nNahcroll Illustration\nToe Cocktail\nHigh on Ashes \n  \nDJs:\nCRANKEN\njj!!\nRoselyn\nLextronic \nwith VFX:\nHolographica \n  \n*** \nWhat’s Up at TMoms: \n• Daily Happy Hour | All drafts are just $4 every day from 4-6pm! \n• Daily Menu | Tattooed Mom will also be serving tasty eats and ice cold drinks all evening. \n• Upstairs dining\, bar access\, and event entry is 21+ w/ valid ID. \n• Accessibility at TMoms | Due to the construction of our historical building\, Tattooed Mom is only partially accessible. Our event space is on the second floor\, which is only accessible via a flight of stairs (20 steps\, 3 feet wide\, railing on the left side only). For more information\, please visit our Accessibility page.
URL:https://www.tattooedmomphilly.com/event/influx-of-heat-art-show/
CATEGORIES:Art Show
ATTACH;FMTTYPE=image/jpeg:https://www.tattooedmomphilly.com/wp-content/uploads/2024/07/Copy-of-Copy-of-INFLUX.png.jpg
END:VEVENT
END:VCALENDAR