BEGIN:VCALENDAR
VERSION:2.0
PRODID:-//Tattooed Mom - ECPv5.9.0//NONSGML v1.0//EN
CALSCALE:GREGORIAN
METHOD:PUBLISH
X-WR-CALNAME:Tattooed Mom
X-ORIGINAL-URL:https://www.tattooedmomphilly.com
X-WR-CALDESC:Events for Tattooed Mom
BEGIN:VTIMEZONE
TZID:America/New_York
BEGIN:DAYLIGHT
TZOFFSETFROM:-0500
TZOFFSETTO:-0400
TZNAME:EDT
DTSTART:20180311T070000
END:DAYLIGHT
BEGIN:STANDARD
TZOFFSETFROM:-0400
TZOFFSETTO:-0500
TZNAME:EST
DTSTART:20181104T060000
END:STANDARD
END:VTIMEZONE
BEGIN:VEVENT
DTSTART;TZID=America/New_York:20181217T180000
DTEND;TZID=America/New_York:20181217T200000
DTSTAMP:20260421T203818
CREATED:20181123T203837Z
LAST-MODIFIED:20181123T210138Z
UID:4110-1545069600-1545076800@www.tattooedmomphilly.com
SUMMARY:Holiday Vegan Drinks
DESCRIPTION:Join The Humane League Philadelphia at Tattooed Mom for some end of the year celebrating with tasty drinks\, yummy food\, and good cheer all around! \nThis is a great opportunity to let loose and meet others interested in helping animals! This is a fun\, friendly\, and inclusive event for vegetarians\, vegans\, and veg-curious folks! \nThe Humane League’s safe space policy will be in effect at this event to ensure everyone feels welcome and comfortable. Please read the policy here. \nEnjoy this event with our Meatless Mondays specials:\n1/2 off our full veggie menu noon-10pm\n& half off all drafts 5-7pm and 10-11pm \nJoin the Facebook Event and invite all your veg-loving & veg-curious pals!
URL:https://www.tattooedmomphilly.com/event/holiday-vegan-drinks/
CATEGORIES:Food & Drink
ATTACH;FMTTYPE=image/png:https://www.tattooedmomphilly.com/wp-content/uploads/2018/11/12-17_VeganDrinksDecember.png
END:VEVENT
END:VCALENDAR