BEGIN:VCALENDAR
VERSION:2.0
PRODID:-//Tattooed Mom - ECPv5.9.0//NONSGML v1.0//EN
CALSCALE:GREGORIAN
METHOD:PUBLISH
X-WR-CALNAME:Tattooed Mom
X-ORIGINAL-URL:https://www.tattooedmomphilly.com
X-WR-CALDESC:Events for Tattooed Mom
BEGIN:VTIMEZONE
TZID:America/New_York
BEGIN:DAYLIGHT
TZOFFSETFROM:-0500
TZOFFSETTO:-0400
TZNAME:EDT
DTSTART:20260308T070000
END:DAYLIGHT
BEGIN:STANDARD
TZOFFSETFROM:-0400
TZOFFSETTO:-0500
TZNAME:EST
DTSTART:20261101T060000
END:STANDARD
END:VTIMEZONE
BEGIN:VEVENT
DTSTART;TZID=America/New_York:20260321T220000
DTEND;TZID=America/New_York:20260321T233000
DTSTAMP:20260422T161053
CREATED:20260216T153341Z
LAST-MODIFIED:20260216T153341Z
UID:16186-1774130400-1774135800@www.tattooedmomphilly.com
SUMMARY:Hanabie After Concert Party!
DESCRIPTION:After the HANABIE concert at TLA\, come to Tattooed Mom with the group! \nPresent the flyer for $0.50 off each purchase. \n  \nSATURDAY\, MARCH 21ST\n10PM\nNO COVER // FREE FUN \n  \nFollow HANABIE on Instagram. \n*** \nWhat’s Up at TMoms: \n• Daily Happy Hour | $4 drafts every day from 4-6pm\, everybody cheered! \n• Daily Menu | Tattooed Mom will also be serving tasty eats and ice cold drinks all evening. \n• Upstairs dining\, bar access\, and event entry is 21+ w/ valid ID. \n• Accessibility at TMoms | Due to the construction of our historical building\, Tattooed Mom is only partially accessible. Our event space is on the second floor\, which is only accessible via a flight of stairs (20 steps\, 3 feet wide\, railing on the left side only). For more information\, please visit our Accessibility page.
URL:https://www.tattooedmomphilly.com/event/hanabie-after-concert-party/
CATEGORIES:After Party
ATTACH;FMTTYPE=image/jpeg:https://www.tattooedmomphilly.com/wp-content/uploads/2026/02/hanabie-after-concert.jpg
END:VEVENT
END:VCALENDAR