BEGIN:VCALENDAR
VERSION:2.0
PRODID:-//Tattooed Mom - ECPv5.9.0//NONSGML v1.0//EN
CALSCALE:GREGORIAN
METHOD:PUBLISH
X-WR-CALNAME:Tattooed Mom
X-ORIGINAL-URL:https://www.tattooedmomphilly.com
X-WR-CALDESC:Events for Tattooed Mom
BEGIN:VTIMEZONE
TZID:America/New_York
BEGIN:DAYLIGHT
TZOFFSETFROM:-0500
TZOFFSETTO:-0400
TZNAME:EDT
DTSTART:20180311T070000
END:DAYLIGHT
BEGIN:STANDARD
TZOFFSETFROM:-0400
TZOFFSETTO:-0500
TZNAME:EST
DTSTART:20181104T060000
END:STANDARD
END:VTIMEZONE
BEGIN:VEVENT
DTSTART;TZID=America/New_York:20181204T170000
DTEND;TZID=America/New_York:20181204T200000
DTSTAMP:20260425T102139
CREATED:20181109T220815Z
LAST-MODIFIED:20181109T220815Z
UID:4020-1543942800-1543953600@www.tattooedmomphilly.com
SUMMARY:Girls Rock Philly Happy Hour Fundraiser
DESCRIPTION:Come celebrate another amazing year of Girls Rock Philly magic with volunteers\, adult campers\, staff\, and friends\, just before the holidays! \nFree to attend! Taco Tuesday Specials from Tattooed Mom! Raffle Prizes! & SO MUCH MORE! A portion of upstairs bar sales will go directly to Girls Rock Philly’s 12K #GRPFUTURES appeal! \nEnjoy this event with our Taco Tuesday specials:\n$1 Tacos\n$2.50 Tecate\n& half off all drafts 5-7 & 10-11pm \nBring a friend\, or ten! Join the Facebook Event and invite all your pals!\nBut please note\, this event is 21+.
URL:https://www.tattooedmomphilly.com/event/girls-rock-philly-happy-hour-fundraiser-2/
ATTACH;FMTTYPE=image/jpeg:https://www.tattooedmomphilly.com/wp-content/uploads/2018/11/12-4_GRP-Happy-Hour.jpg
END:VEVENT
END:VCALENDAR