BEGIN:VCALENDAR
VERSION:2.0
PRODID:-//Tattooed Mom - ECPv5.9.0//NONSGML v1.0//EN
CALSCALE:GREGORIAN
METHOD:PUBLISH
X-WR-CALNAME:Tattooed Mom
X-ORIGINAL-URL:https://www.tattooedmomphilly.com
X-WR-CALDESC:Events for Tattooed Mom
BEGIN:VTIMEZONE
TZID:America/New_York
BEGIN:DAYLIGHT
TZOFFSETFROM:-0500
TZOFFSETTO:-0400
TZNAME:EDT
DTSTART:20170312T070000
END:DAYLIGHT
BEGIN:STANDARD
TZOFFSETFROM:-0400
TZOFFSETTO:-0500
TZNAME:EST
DTSTART:20171105T060000
END:STANDARD
END:VTIMEZONE
BEGIN:VEVENT
DTSTART;TZID=America/New_York:20170411T193000
DTEND;TZID=America/New_York:20170411T230000
DTSTAMP:20260422T105706
CREATED:20170314T210503Z
LAST-MODIFIED:20170405T205120Z
UID:941-1491939000-1491951600@www.tattooedmomphilly.com
SUMMARY:The Funny Gals
DESCRIPTION:The Funny Gals are BACK with with hilarious drag comedy\, featuring this months host\, Astala Vista!! Presenting all new comedy numbers that will for sure to make you LOL!  These ladies are sure to slay\, so don’t miss it! \nStarring :\nBev\nSutton Fearce\nVinChelle \nOur special guest this month is the hilarious Kal Heavey (Onyx)! \nNO COVER\n$2.50 Tecates\n$1 all beef or veggie bean tacos until we run out! (Try our taco of the month)\nHalf off all drafts 5-7 & 10-11pm
URL:https://www.tattooedmomphilly.com/event/funny-gals/
CATEGORIES:Comedy
ATTACH;FMTTYPE=image/jpeg:https://www.tattooedmomphilly.com/wp-content/uploads/2017/03/17309822_10100110762458507_4473791637475164129_n.jpg
END:VEVENT
END:VCALENDAR