BEGIN:VCALENDAR
VERSION:2.0
PRODID:-//Tattooed Mom - ECPv5.9.0//NONSGML v1.0//EN
CALSCALE:GREGORIAN
METHOD:PUBLISH
X-WR-CALNAME:Tattooed Mom
X-ORIGINAL-URL:https://www.tattooedmomphilly.com
X-WR-CALDESC:Events for Tattooed Mom
BEGIN:VTIMEZONE
TZID:America/New_York
BEGIN:DAYLIGHT
TZOFFSETFROM:-0500
TZOFFSETTO:-0400
TZNAME:EDT
DTSTART:20230312T070000
END:DAYLIGHT
BEGIN:STANDARD
TZOFFSETFROM:-0400
TZOFFSETTO:-0500
TZNAME:EST
DTSTART:20231105T060000
END:STANDARD
END:VTIMEZONE
BEGIN:VEVENT
DTSTART;TZID=America/New_York:20231013T190000
DTEND;TZID=America/New_York:20231013T230000
DTSTAMP:20260419T142238
CREATED:20231008T175925Z
LAST-MODIFIED:20231008T175925Z
UID:10785-1697223600-1697238000@www.tattooedmomphilly.com
SUMMARY:Friday the 13th Art Market
DESCRIPTION:IT’S UR LUCKY DAY  .  JOIN US FOR A FRIDAY THE 13TH ART MARKET IF U DARE . \n  \nFRIDAY\, OCTOBER 13TH\n7-11PM\nNO COVER // FREE FUN \n  \nFeaturing:\nDoomed Future\nInphltrate\nthe666cat\nSea of Doom\nYoung Daniel Cant\nBirdwatchers Studio\nNero\nURQUHART\nSharks & Spades\nGRIMGRIMGRIM\nGloopy Goblin\nKyle Confehr\nressinblood\nIdle Hands \n  \nFlyer design by @the666cat. \n*** \nWhat’s Up at TMoms: \n• Daily Happy Hour | All drafts are just $4 every day from 4-6pm! \n• Daily Menu | Tattooed Mom will also be serving tasty eats and ice cold drinks all evening. \n• Upstairs dining\, bar access\, and event entry is 21+ w/ valid ID.
URL:https://www.tattooedmomphilly.com/event/friday-the-13th-art-market/
CATEGORIES:Art Show,Pop-Up
ATTACH;FMTTYPE=image/jpeg:https://www.tattooedmomphilly.com/wp-content/uploads/2023/10/IMG_8996.jpeg
END:VEVENT
END:VCALENDAR