BEGIN:VCALENDAR
VERSION:2.0
PRODID:-//Tattooed Mom - ECPv5.9.0//NONSGML v1.0//EN
CALSCALE:GREGORIAN
METHOD:PUBLISH
X-WR-CALNAME:Tattooed Mom
X-ORIGINAL-URL:https://www.tattooedmomphilly.com
X-WR-CALDESC:Events for Tattooed Mom
BEGIN:VTIMEZONE
TZID:America/New_York
BEGIN:DAYLIGHT
TZOFFSETFROM:-0500
TZOFFSETTO:-0400
TZNAME:EDT
DTSTART:20190310T070000
END:DAYLIGHT
BEGIN:STANDARD
TZOFFSETFROM:-0400
TZOFFSETTO:-0500
TZNAME:EST
DTSTART:20191103T060000
END:STANDARD
END:VTIMEZONE
BEGIN:VEVENT
DTSTART;TZID=America/New_York:20191013T120000
DTEND;TZID=America/New_York:20191013T235900
DTSTAMP:20260422T075111
CREATED:20190915T040045Z
LAST-MODIFIED:20190909T200546Z
UID:5106-1570968000-1571011140@www.tattooedmomphilly.com
SUMMARY:FREE Sunday Arts & Crafts: Sugar Skulls // October 13th!
DESCRIPTION:We’re getting sweet & spooky this October with FREE Sunday Arts & Crafts: Sugar Skulls! \nCelebrate the changing seasons & honor the upcoming Día De Los Muertos by crafting\, decorating\, and customizing your very own traditional sugar skull\, and by adding some vibrant colors to one of our sugar skull coloring pages! \nWe’ll be crafting & creating EVERY Sunday in October\, so keep your eye out for for special sugar skull temporary tattoos\, toys\, and treats! The best coloring pages will be hung in our DIY arts & crafts gallery! \nEnjoy this event with our delicious food & drink menu\,\nhalf price drafts from 5-7 & 10-11pm\,\n& let your crafting continue into the night with $2.50 Miller High Life & 1/2 price tater tots 7pm til midnight.
URL:https://www.tattooedmomphilly.com/event/free-sunday-arts-crafts-sugar-skulls-october-13th/
CATEGORIES:Arts & Crafts
ATTACH;FMTTYPE=image/jpeg:https://www.tattooedmomphilly.com/wp-content/uploads/2016/12/CRAFT-October-sugar-skull.jpg
END:VEVENT
END:VCALENDAR