BEGIN:VCALENDAR
VERSION:2.0
PRODID:-//Tattooed Mom - ECPv5.9.0//NONSGML v1.0//EN
CALSCALE:GREGORIAN
METHOD:PUBLISH
X-WR-CALNAME:Tattooed Mom
X-ORIGINAL-URL:https://www.tattooedmomphilly.com
X-WR-CALDESC:Events for Tattooed Mom
BEGIN:VTIMEZONE
TZID:America/New_York
BEGIN:DAYLIGHT
TZOFFSETFROM:-0500
TZOFFSETTO:-0400
TZNAME:EDT
DTSTART:20190310T070000
END:DAYLIGHT
BEGIN:STANDARD
TZOFFSETFROM:-0400
TZOFFSETTO:-0500
TZNAME:EST
DTSTART:20191103T060000
END:STANDARD
END:VTIMEZONE
BEGIN:VEVENT
DTSTART;TZID=America/New_York:20190407T120000
DTEND;TZID=America/New_York:20190407T220000
DTSTAMP:20260424T112708
CREATED:20190311T160053Z
LAST-MODIFIED:20190401T040957Z
UID:3989-1554638400-1554674400@www.tattooedmomphilly.com
SUMMARY:FREE Sunday Arts & Crafts: Rubber Duckies! // April 7th!
DESCRIPTION:Spring into the crafting mood this April with the migratory return of FREE Sunday Arts & Crafts: Rubber Duckies at Tattooed Mom! \nCelebrate our tiny bird friends by customizing your very own rubber ducky\, using all the feathers\, pom poms\, googly eyes\, sequins\, and beautifully bedazzled items you can get your hands on at our very own TMOMs Arts & Crafts craft table! FREE arts & crafts FUN for all\, rubber ducky style! \nEnjoy this event with our delicious food & drink menu\,\nhalf price drafts from 5-7 & 10-11pm\,\n& let your crafting continue into the night with $2 PBR pounders & 1/2 price tater tots after 7pm.
URL:https://www.tattooedmomphilly.com/event/free-sunday-arts-crafts-rubber-duckies-april-7th/
CATEGORIES:Arts & Crafts
ATTACH;FMTTYPE=image/jpeg:https://www.tattooedmomphilly.com/wp-content/uploads/2016/12/CRAFT-April-rubber-ducky.jpg
END:VEVENT
END:VCALENDAR