BEGIN:VCALENDAR
VERSION:2.0
PRODID:-//Tattooed Mom - ECPv5.9.0//NONSGML v1.0//EN
CALSCALE:GREGORIAN
METHOD:PUBLISH
X-WR-CALNAME:Tattooed Mom
X-ORIGINAL-URL:https://www.tattooedmomphilly.com
X-WR-CALDESC:Events for Tattooed Mom
BEGIN:VTIMEZONE
TZID:America/New_York
BEGIN:DAYLIGHT
TZOFFSETFROM:-0500
TZOFFSETTO:-0400
TZNAME:EDT
DTSTART:20190310T070000
END:DAYLIGHT
BEGIN:STANDARD
TZOFFSETFROM:-0400
TZOFFSETTO:-0500
TZNAME:EST
DTSTART:20191103T060000
END:STANDARD
END:VTIMEZONE
BEGIN:VEVENT
DTSTART;TZID=America/New_York:20190714T120000
DTEND;TZID=America/New_York:20190714T235900
DTSTAMP:20260420T095426
CREATED:20190624T021342Z
LAST-MODIFIED:20190709T161322Z
UID:5199-1563105600-1563148740@www.tattooedmomphilly.com
SUMMARY:FREE Sunday Arts & Crafts: Beer Koozie // July 14th!
DESCRIPTION:The hottest month of the year is the perfect time to keep your can cool with your very own personalized Tattooed Mom beer koozie! \nEvery Sunday in July we’ll have free koozies and a wacky assortment of stickers\, glitter\, pom poms\, googly eyes\, & more to satisfy all your decorating desires! Create something new\, something silly\, and something uniquely yours! \nWe’ll also have liquid inspiration all day & night with $2 Natural Light “Naturdays” Strawberry Lemonade\, perfect for sipping out of your new custom koozie! Cheers to cold cans! \nEnjoy this event with our delicious food & drink menu\,\nhalf price drafts from 5-7 & 10-11pm\,\n& let your crafting continue into the night with $2 PBR pounders & 1/2 price tater tots after 7pm. \nFlyer by Abbie Lowe.
URL:https://www.tattooedmomphilly.com/event/free-sunday-arts-crafts-beer-koozie-july-14th/
CATEGORIES:Arts & Crafts
ATTACH;FMTTYPE=image/png:https://www.tattooedmomphilly.com/wp-content/uploads/2019/06/2019-KooziePoster.png
END:VEVENT
END:VCALENDAR