BEGIN:VCALENDAR
VERSION:2.0
PRODID:-//Tattooed Mom - ECPv5.9.0//NONSGML v1.0//EN
CALSCALE:GREGORIAN
METHOD:PUBLISH
X-WR-CALNAME:Tattooed Mom
X-ORIGINAL-URL:https://www.tattooedmomphilly.com
X-WR-CALDESC:Events for Tattooed Mom
BEGIN:VTIMEZONE
TZID:America/New_York
BEGIN:DAYLIGHT
TZOFFSETFROM:-0500
TZOFFSETTO:-0400
TZNAME:EDT
DTSTART:20170312T070000
END:DAYLIGHT
BEGIN:STANDARD
TZOFFSETFROM:-0400
TZOFFSETTO:-0500
TZNAME:EST
DTSTART:20171105T060000
END:STANDARD
END:VTIMEZONE
BEGIN:VEVENT
DTSTART;TZID=America/New_York:20170827T190000
DTEND;TZID=America/New_York:20170827T220000
DTSTAMP:20260422T110845
CREATED:20170731T043144Z
LAST-MODIFIED:20170731T043144Z
UID:1639-1503860400-1503871200@www.tattooedmomphilly.com
SUMMARY:Drink & Draw: Cosplay edition
DESCRIPTION:Atomic City Comics presents an evening of drinking and drawing\, cosplay style!  Don’t miss the return of the Cosplay Drink & Draw event. \nLive model (cosplay) sketching hosted by Joe Turner featuring Wicked Lady Cosplay …be sure to tip your model!  Art supplies won’t be provided\, so make sure you bring your own. \nFree comic book coloring books!\nRaffle Drawing!\nSpecialty Vendors! \n$5 Suggested Donation \nPhoto by Hampton Impressions\nBanner Design by G33Kamania
URL:https://www.tattooedmomphilly.com/event/drinkanddraw/
CATEGORIES:Arts & Crafts
ATTACH;FMTTYPE=image/jpeg:https://www.tattooedmomphilly.com/wp-content/uploads/2017/07/drinkanddraw.jpg
END:VEVENT
END:VCALENDAR