BEGIN:VCALENDAR
VERSION:2.0
PRODID:-//Tattooed Mom - ECPv5.9.0//NONSGML v1.0//EN
CALSCALE:GREGORIAN
METHOD:PUBLISH
X-WR-CALNAME:Tattooed Mom
X-ORIGINAL-URL:https://www.tattooedmomphilly.com
X-WR-CALDESC:Events for Tattooed Mom
BEGIN:VTIMEZONE
TZID:America/New_York
BEGIN:DAYLIGHT
TZOFFSETFROM:-0500
TZOFFSETTO:-0400
TZNAME:EDT
DTSTART:20230312T070000
END:DAYLIGHT
BEGIN:STANDARD
TZOFFSETFROM:-0400
TZOFFSETTO:-0500
TZNAME:EST
DTSTART:20231105T060000
END:STANDARD
END:VTIMEZONE
BEGIN:VEVENT
DTSTART;TZID=America/New_York:20230221T160000
DTEND;TZID=America/New_York:20230221T230000
DTSTAMP:20260419T232708
CREATED:20230218T002712Z
LAST-MODIFIED:20230218T002712Z
UID:9458-1676995200-1677020400@www.tattooedmomphilly.com
SUMMARY:Donation Day: Temple Graduate Students' Association & Labor Union
DESCRIPTION:WHAT: TMoms Donation Day\nWHEN: Tuesday\, February 21st \n*** \nSpecial Donation Day:\n✨ TUGSA 6290 // Temple University Graduate Students’ Association & Labor Union ✨\n*** \nCommunity is everything! On Tuesday\, February 21st\, TMoms will be donating 10% of ALL SALES to TUGSA 6290 (including to-go & delivery)! Temple Graduate Students are currently on strike\, demanding a living wage\, healthcare for dependents and families\, longer paternal and bereavement leave\, and better working conditions. Show your solidarity with striking workers and come through for TUGSA! \nYou can learn more about the strike below. Give them a follow\, donate directly\, and spread the word! \n*** \nMore about this organization:\nTUGSA 6290 \nSign The Petition|Website  Instagram | Twitter | Donate \n*** \n💞 LOVE & GOOD TIMES ALWAYS 💞
URL:https://www.tattooedmomphilly.com/event/donation-day-temple-graduate-students-association-labor-union/
CATEGORIES:Benefit Party,Food & Drink
ATTACH;FMTTYPE=image/png:https://www.tattooedmomphilly.com/wp-content/uploads/2023/02/20230217_191415_0000.png
END:VEVENT
END:VCALENDAR