BEGIN:VCALENDAR
VERSION:2.0
PRODID:-//Tattooed Mom - ECPv5.9.0//NONSGML v1.0//EN
CALSCALE:GREGORIAN
METHOD:PUBLISH
X-WR-CALNAME:Tattooed Mom
X-ORIGINAL-URL:https://www.tattooedmomphilly.com
X-WR-CALDESC:Events for Tattooed Mom
BEGIN:VTIMEZONE
TZID:America/New_York
BEGIN:DAYLIGHT
TZOFFSETFROM:-0500
TZOFFSETTO:-0400
TZNAME:EDT
DTSTART:20230312T070000
END:DAYLIGHT
BEGIN:STANDARD
TZOFFSETFROM:-0400
TZOFFSETTO:-0500
TZNAME:EST
DTSTART:20231105T060000
END:STANDARD
END:VTIMEZONE
BEGIN:VEVENT
DTSTART;TZID=America/New_York:20230710T160000
DTEND;TZID=America/New_York:20230710T230000
DTSTAMP:20260419T232621
CREATED:20230709T005638Z
LAST-MODIFIED:20230709T005638Z
UID:10099-1689004800-1689030000@www.tattooedmomphilly.com
SUMMARY:Donation Day: Asian Americans United
DESCRIPTION:WHAT: TMoms Donation Day\nWHEN: Monday\, July 10th \n*** \nJuly Donation Day:\n💫 Asian Americans United 💫\n*** \nCommunity is everything! On Monday\, July 10th\, TMoms will be donating 15% of ALL SALES to Asian Americans United (including to-go & delivery)! We’re honored to support this organization’s collaborative efforts to preserve Philadelphia’s Chinatown\, including a rally of over 3500 people who came together to at the intersections of 10th and Vine Streets to demonstrate their opposition for 76 Place. \nYou can learn more about this organization below. Give them a follow\, donate directly\, and spread the word! \nPhoto by @noelchackophoto. \n*** \nMore about this organization:\nSince 1985\, Asian Americans United exists so that people of Asian ancestry in Philadelphia exercise leadership to build their communities and unite to challenge oppression. \nFollow Asian Americans United:\nWebsite | Facebook | Instagram | Twitter | Donate \n*** \n💞 LOVE & GOOD TIMES ALWAYS 💞
URL:https://www.tattooedmomphilly.com/event/donation-day-asian-americans-united/
CATEGORIES:Community,Food & Drink
ATTACH;FMTTYPE=image/png:https://www.tattooedmomphilly.com/wp-content/uploads/2023/07/TMoms-Donation-Day-Graphic.png
END:VEVENT
END:VCALENDAR