BEGIN:VCALENDAR
VERSION:2.0
PRODID:-//Tattooed Mom - ECPv5.9.0//NONSGML v1.0//EN
CALSCALE:GREGORIAN
METHOD:PUBLISH
X-WR-CALNAME:Tattooed Mom
X-ORIGINAL-URL:https://www.tattooedmomphilly.com
X-WR-CALDESC:Events for Tattooed Mom
BEGIN:VTIMEZONE
TZID:America/New_York
BEGIN:DAYLIGHT
TZOFFSETFROM:-0500
TZOFFSETTO:-0400
TZNAME:EDT
DTSTART:20180311T070000
END:DAYLIGHT
BEGIN:STANDARD
TZOFFSETFROM:-0400
TZOFFSETTO:-0500
TZNAME:EST
DTSTART:20181104T060000
END:STANDARD
END:VTIMEZONE
BEGIN:VEVENT
DTSTART;TZID=America/New_York:20180913T200000
DTEND;TZID=America/New_York:20180913T220000
DTSTAMP:20260422T041800
CREATED:20180823T161103Z
LAST-MODIFIED:20180905T050919Z
UID:3547-1536868800-1536876000@www.tattooedmomphilly.com
SUMMARY:Dissident Bodies: A Live and Video Performance
DESCRIPTION:Dissident Bodies is a live and video performance event at Tattooed Mom\, organized by Salomé Cosmique and Verónica Ponce de León\, presenting the work of 17 artists from Latin America\, France\, India and the United States. Their varied responses to self-image and acceptance of ones body are at the center of this performance. \nThese talented male\, female\, and gender non-conforming artists will share their ability to accept their bodies\, and how in doing so\, they have fractured the societal conventions which regulate and restrict us through expectations of gender and beauty. \nDissident Bodies seeks to empower both the artist and the audience to accept their bodies as they are. \nIt is often difficult to accept ourselves as time passes and our bodies change. Forming wrinkles\, gaining weight\, growing white hair\, transitioning (or choosing not to transition) for one’s gender identity\, giving birth and accommodating new life. These changes are a part of life\, but we are encouraged to hide them. \nEnjoy this event with our Pierogi Thursday specials:\n50¢ vegan potato & onion pierogi from noon-10pm\n& half off all drafts 5-7pm and 10-11pm \nJoin the Facebook Event and invite all your pals!
URL:https://www.tattooedmomphilly.com/event/dissident-bodies-live-digital-performance/
CATEGORIES:Live Performance
ATTACH;FMTTYPE=image/jpeg:https://www.tattooedmomphilly.com/wp-content/uploads/2018/08/Flyer-Dissident-Bodies-Acceptance-of-Our-Changing.jpg
END:VEVENT
END:VCALENDAR