BEGIN:VCALENDAR
VERSION:2.0
PRODID:-//Tattooed Mom - ECPv5.9.0//NONSGML v1.0//EN
CALSCALE:GREGORIAN
METHOD:PUBLISH
X-WR-CALNAME:Tattooed Mom
X-ORIGINAL-URL:https://www.tattooedmomphilly.com
X-WR-CALDESC:Events for Tattooed Mom
BEGIN:VTIMEZONE
TZID:America/New_York
BEGIN:DAYLIGHT
TZOFFSETFROM:-0500
TZOFFSETTO:-0400
TZNAME:EDT
DTSTART:20170312T070000
END:DAYLIGHT
BEGIN:STANDARD
TZOFFSETFROM:-0400
TZOFFSETTO:-0500
TZNAME:EST
DTSTART:20171105T060000
END:STANDARD
END:VTIMEZONE
BEGIN:VEVENT
DTSTART;TZID=America/New_York:20170801T190000
DTEND;TZID=America/New_York:20170801T220000
DTSTAMP:20260422T062320
CREATED:20170722T195830Z
LAST-MODIFIED:20170728T113159Z
UID:1592-1501614000-1501624800@www.tattooedmomphilly.com
SUMMARY:QUIZZO with the Democratic Socialists
DESCRIPTION:Join the Philly Democratic Socialists in a rousing game of QUIZZO!  Between rounds\, there will be a prize raffle\, so be sure to stick around! \n$1 all beef or veggie bean tacos until we run out- be sure to try the Taco of the Month!\n$2.50 Tecates all day\nHalf off all drafts 5-7 & 10-11pm
URL:https://www.tattooedmomphilly.com/event/democratic-socialists/
CATEGORIES:Quizzo
ATTACH;FMTTYPE=image/jpeg:https://www.tattooedmomphilly.com/wp-content/uploads/2017/07/PhillyDSA.jpg
END:VEVENT
END:VCALENDAR