BEGIN:VCALENDAR
VERSION:2.0
PRODID:-//Tattooed Mom - ECPv5.9.0//NONSGML v1.0//EN
CALSCALE:GREGORIAN
METHOD:PUBLISH
X-WR-CALNAME:Tattooed Mom
X-ORIGINAL-URL:https://www.tattooedmomphilly.com
X-WR-CALDESC:Events for Tattooed Mom
BEGIN:VTIMEZONE
TZID:America/New_York
BEGIN:DAYLIGHT
TZOFFSETFROM:-0500
TZOFFSETTO:-0400
TZNAME:EDT
DTSTART:20180311T070000
END:DAYLIGHT
BEGIN:STANDARD
TZOFFSETFROM:-0400
TZOFFSETTO:-0500
TZNAME:EST
DTSTART:20181104T060000
END:STANDARD
END:VTIMEZONE
BEGIN:VEVENT
DTSTART;TZID=America/New_York:20180201T193000
DTEND;TZID=America/New_York:20180201T230000
DTSTAMP:20260419T222837
CREATED:20180104T161934Z
LAST-MODIFIED:20180104T161934Z
UID:2368-1517513400-1517526000@www.tattooedmomphilly.com
SUMMARY:Deep Camouflage: book release party
DESCRIPTION:Upon the release of Amy Saul-Zerby‘s second collection of poetry\, Deep Camouflage\, Philly-based poets Prairie M. Faul\, Raena Shirali\, & Zach Blackwood celebrate with live poetry & spoken word performances!\n\nHave the author sign your new book\, they’ll be for sale at the event! \nDoors at 7:30\, readings at 8. \n\n50¢ pierogi until 10pm\nHalf off all drafts 5-7 & 10-11pm \n↓↓↓Check out the poet’s profiles!↓↓↓ \n\n \n\nPrairie M. Faul is a Cajun Poet and flagrant transsexual currently residing in Philadelphia. She is a Sag Sun/Virgo Moon/Cancer rising. Her collected works include In the House We Built (Bottlecap Press 2017)\, Fire-House 23 (self published 2017)\, and Burnt Sugarcane (GloWorm Press\, 2016). Find her on twitter @MotsduPrairie and IG @ex_wife_material\n\n \ntwitter.com/MotsDuPrairie\, instagram.com/ex_wife_material\n\n\n\nRaena Shirali is the author of GILT (YesYes Books\, 2017). Her honors include a 2016 Pushcart Prize\, the 2016 Cosmonauts Avenue Poetry Prize\, the 2014 Gulf Coast Poetry Prize\, & a “Discovery” / Boston Review Poetry Prize in 2013. Born in Houston\, Texas\, & raised in Charleston\, South Carolina\, the Indian American poet earned her MFA from The Ohio State University. Most recently\, she was the Philip Roth Resident at Bucknell University’s Stadler Center for Poetry. She currently lives in Philadelphia & serves as a poetry reader for YesYes Books & Muzzle Magazine.\n\ntwitter.com/raenashirali\, instagram.com/raenainthemorning\n\n\nZach Blackwood is a queer black poet and people person in philadelphia\, pa. he has poems published in peach magazine\, metatron\, bedfellows magazine\, and tenderness\, yea. he lives with a beautiful dog named pig. follow @blackwhom for pig pics.\n\ntwitter.com/blackwhom\, instagram.com/blackwhom\n\nAmy Saul-Zerby is the author of Paper Flowers Imaginary Birds (Be About It Press 2017) and Deep Camouflage (Civil Coping Mechanisms 2018). Her poems have also appeared in Painted Bride Quarterly\, Spy Kids Review\, Mad House\, and Bedfellows Magazine. She is editor in chief of Voicemail Poems and a contributing writer at Fields Magazine and The Rumpus.\n\ntwitter.com/amyszzz\, instagram.com/amysz\, instagram.com/amysaul_zerby
URL:https://www.tattooedmomphilly.com/event/deep-camouflage-book-release-party/
CATEGORIES:Literary Event
ATTACH;FMTTYPE=image/jpeg:https://www.tattooedmomphilly.com/wp-content/uploads/2018/01/Deep-Camouflage.jpg
END:VEVENT
END:VCALENDAR