BEGIN:VCALENDAR
VERSION:2.0
PRODID:-//Tattooed Mom - ECPv5.9.0//NONSGML v1.0//EN
CALSCALE:GREGORIAN
METHOD:PUBLISH
X-WR-CALNAME:Tattooed Mom
X-ORIGINAL-URL:https://www.tattooedmomphilly.com
X-WR-CALDESC:Events for Tattooed Mom
BEGIN:VTIMEZONE
TZID:America/New_York
BEGIN:DAYLIGHT
TZOFFSETFROM:-0500
TZOFFSETTO:-0400
TZNAME:EDT
DTSTART:20190310T070000
END:DAYLIGHT
BEGIN:STANDARD
TZOFFSETFROM:-0400
TZOFFSETTO:-0500
TZNAME:EST
DTSTART:20191103T060000
END:STANDARD
END:VTIMEZONE
BEGIN:VEVENT
DTSTART;TZID=America/New_York:20190717T203000
DTEND;TZID=America/New_York:20190717T220000
DTSTAMP:20260421T213106
CREATED:20190616T034155Z
LAST-MODIFIED:20190717T025909Z
UID:5146-1563395400-1563400800@www.tattooedmomphilly.com
SUMMARY:Crime & Cookies: A Live\, True Crime Comedy Show
DESCRIPTION:Get your true crime fix AND your sugar fix. \nGina and Andrea\, two local comedians—and tough cookies—host a live interactive comedy show focusing on the survivors of the most notorious true crime stories. \nJuly 17th. With games\, prizes\, and baked goods! \nEnjoy this event with our Burger Wednesday specials:\n$4 Mom’s Beef Burgers & Mom’s Vegan Burgers\n$2 Narragansett Lager Tall Boys\na special Burger of the Month\n& half price drafts 5-7pm and 10-11pm \nJoin the Facebook Event and invite all your true crime loving pals!\n \n 
URL:https://www.tattooedmomphilly.com/event/crime-cookies-live-true-crime-comedy-show/
CATEGORIES:Comedy,Live Performance
ATTACH;FMTTYPE=image/jpeg:https://www.tattooedmomphilly.com/wp-content/uploads/2019/06/7-17_CrimeAndCookies.jpg
END:VEVENT
END:VCALENDAR